BEGIN:VCALENDAR
VERSION:2.0
PRODID:-//Telugu Association Of Malaysia - ECPv6.15.20//NONSGML v1.0//EN
CALSCALE:GREGORIAN
METHOD:PUBLISH
X-WR-CALNAME:Telugu Association Of Malaysia
X-ORIGINAL-URL:https://telugumalaysia.org
X-WR-CALDESC:Events for Telugu Association Of Malaysia
REFRESH-INTERVAL;VALUE=DURATION:PT1H
X-Robots-Tag:noindex
X-PUBLISHED-TTL:PT1H
BEGIN:VTIMEZONE
TZID:UTC
BEGIN:STANDARD
TZOFFSETFROM:+0000
TZOFFSETTO:+0000
TZNAME:UTC
DTSTART:20220101T000000
END:STANDARD
END:VTIMEZONE
BEGIN:VEVENT
DTSTART;TZID=UTC:20230722T070000
DTEND;TZID=UTC:20230722T100000
DTSTAMP:20260426T040022
CREATED:20230720T030716Z
LAST-MODIFIED:20230720T030716Z
UID:7485-1690009200-1690020000@telugumalaysia.org
SUMMARY:TAM Kinta Branch (Youth) – Hiking
DESCRIPTION:
URL:https://telugumalaysia.org/event/tam-kinta-branch-youth-hiking/
LOCATION:Bukit Bangkong\, Tanah Hitam\, Chemor\, Ipoh
END:VEVENT
END:VCALENDAR