BEGIN:VCALENDAR
VERSION:2.0
PRODID:-//Telugu Association Of Malaysia - ECPv6.15.20//NONSGML v1.0//EN
CALSCALE:GREGORIAN
METHOD:PUBLISH
X-WR-CALNAME:Telugu Association Of Malaysia
X-ORIGINAL-URL:https://telugumalaysia.org
X-WR-CALDESC:Events for Telugu Association Of Malaysia
REFRESH-INTERVAL;VALUE=DURATION:PT1H
X-Robots-Tag:noindex
X-PUBLISHED-TTL:PT1H
BEGIN:VTIMEZONE
TZID:UTC
BEGIN:STANDARD
TZOFFSETFROM:+0000
TZOFFSETTO:+0000
TZNAME:UTC
DTSTART:20220101T000000
END:STANDARD
END:VTIMEZONE
BEGIN:VEVENT
DTSTART;TZID=UTC:20230805T100000
DTEND;TZID=UTC:20230805T120000
DTSTAMP:20260426T040028
CREATED:20230721T082642Z
LAST-MODIFIED:20230721T082642Z
UID:7496-1691229600-1691236800@telugumalaysia.org
SUMMARY:TAM Rawang Branch (Youth) - Futsal Friendly Match
DESCRIPTION:
URL:https://telugumalaysia.org/event/tam-rawang-branch-youth-futsal-friendly-match/
LOCATION:Futsal & Badminton Court\, Bandar Country Homes\, Rawang
END:VEVENT
BEGIN:VEVENT
DTSTART;TZID=UTC:20230805T190000
DTEND;TZID=UTC:20230805T220000
DTSTAMP:20260426T040028
CREATED:20230721T014244Z
LAST-MODIFIED:20230721T014244Z
UID:7492-1691262000-1691272800@telugumalaysia.org
SUMMARY:TAM Johor Bahru Branch - 35th Anniversary Celebration
DESCRIPTION:
URL:https://telugumalaysia.org/event/tam-johor-bahru-branch-35th-anniversary-celebration/
LOCATION:Moxsha Hall\, Bandar Baru Permas Jaya\, Masai\, Johor
END:VEVENT
END:VCALENDAR