BEGIN:VCALENDAR
VERSION:2.0
PRODID:-//Telugu Association Of Malaysia - ECPv6.15.20//NONSGML v1.0//EN
CALSCALE:GREGORIAN
METHOD:PUBLISH
X-WR-CALNAME:Telugu Association Of Malaysia
X-ORIGINAL-URL:https://telugumalaysia.org
X-WR-CALDESC:Events for Telugu Association Of Malaysia
REFRESH-INTERVAL;VALUE=DURATION:PT1H
X-Robots-Tag:noindex
X-PUBLISHED-TTL:PT1H
BEGIN:VTIMEZONE
TZID:UTC
BEGIN:STANDARD
TZOFFSETFROM:+0000
TZOFFSETTO:+0000
TZNAME:UTC
DTSTART:20220101T000000
END:STANDARD
END:VTIMEZONE
BEGIN:VEVENT
DTSTART;TZID=UTC:20230806T070000
DTEND;TZID=UTC:20230806T100000
DTSTAMP:20260426T040011
CREATED:20230731T051259Z
LAST-MODIFIED:20230731T052601Z
UID:7501-1691305200-1691316000@telugumalaysia.org
SUMMARY:TAM Gombak Branch (Youth) - Jungle Trekking
DESCRIPTION:
URL:https://telugumalaysia.org/event/tam-gombak-branch-jungle-trekking/
LOCATION:Taman Tugu Malaysia\, Kuala Lumpur
END:VEVENT
END:VCALENDAR