BEGIN:VCALENDAR
VERSION:2.0
PRODID:-//Telugu Association Of Malaysia - ECPv6.15.20//NONSGML v1.0//EN
CALSCALE:GREGORIAN
METHOD:PUBLISH
X-WR-CALNAME:Telugu Association Of Malaysia
X-ORIGINAL-URL:https://telugumalaysia.org
X-WR-CALDESC:Events for Telugu Association Of Malaysia
REFRESH-INTERVAL;VALUE=DURATION:PT1H
X-Robots-Tag:noindex
X-PUBLISHED-TTL:PT1H
BEGIN:VTIMEZONE
TZID:UTC
BEGIN:STANDARD
TZOFFSETFROM:+0000
TZOFFSETTO:+0000
TZNAME:UTC
DTSTART:20220101T000000
END:STANDARD
END:VTIMEZONE
BEGIN:VEVENT
DTSTART;VALUE=DATE:20230916
DTEND;VALUE=DATE:20230917
DTSTAMP:20260426T000240
CREATED:20230822T035630Z
LAST-MODIFIED:20230822T035630Z
UID:7519-1694822400-1694908799@telugumalaysia.org
SUMMARY:TAM Cultural Competitions 2023 (Round 1 - Video Submissions Closing Date)
DESCRIPTION:Registration Link : https://forms.gle/sABFfXD9qvS8jLeaA \nParticipation Guidelines : https://docs.google.com/document/d/147Bo__Wb1NkF-qNAA28iaxZUmfjbzwvG
URL:https://telugumalaysia.org/event/tam-cultural-competitions-2023-round-1-video-submissions-closing-date/
LOCATION:Online (Video Submissions)
END:VEVENT
END:VCALENDAR