BEGIN:VCALENDAR
VERSION:2.0
PRODID:-//Telugu Association Of Malaysia - ECPv6.15.20//NONSGML v1.0//EN
CALSCALE:GREGORIAN
METHOD:PUBLISH
X-ORIGINAL-URL:https://telugumalaysia.org
X-WR-CALDESC:Events for Telugu Association Of Malaysia
REFRESH-INTERVAL;VALUE=DURATION:PT1H
X-Robots-Tag:noindex
X-PUBLISHED-TTL:PT1H
BEGIN:VTIMEZONE
TZID:UTC
BEGIN:STANDARD
TZOFFSETFROM:+0000
TZOFFSETTO:+0000
TZNAME:UTC
DTSTART:20220101T000000
END:STANDARD
END:VTIMEZONE
BEGIN:VEVENT
DTSTART;TZID=UTC:20230930T100000
DTEND;TZID=UTC:20231001T140000
DTSTAMP:20260425T225336
CREATED:20230702T151713Z
LAST-MODIFIED:20230905T065435Z
UID:7472-1696068000-1696168800@telugumalaysia.org
SUMMARY:TAM National Youth - TAM Youth Camp 2023
DESCRIPTION:Register Here : https://forms.gle/xq7grpegP5jndKNs9
URL:https://telugumalaysia.org/event/tam-youth-camp-2023/
LOCATION:Glory Beach Resort\, Port Dickson\, Negeri Sembilan
END:VEVENT
END:VCALENDAR