BEGIN:VCALENDAR
VERSION:2.0
PRODID:-//Telugu Association Of Malaysia - ECPv6.15.20//NONSGML v1.0//EN
CALSCALE:GREGORIAN
METHOD:PUBLISH
X-ORIGINAL-URL:https://telugumalaysia.org
X-WR-CALDESC:Events for Telugu Association Of Malaysia
REFRESH-INTERVAL;VALUE=DURATION:PT1H
X-Robots-Tag:noindex
X-PUBLISHED-TTL:PT1H
BEGIN:VTIMEZONE
TZID:UTC
BEGIN:STANDARD
TZOFFSETFROM:+0000
TZOFFSETTO:+0000
TZNAME:UTC
DTSTART:20230101T000000
END:STANDARD
END:VTIMEZONE
BEGIN:VEVENT
DTSTART;TZID=UTC:20240120T143000
DTEND;TZID=UTC:20240120T170000
DTSTAMP:20260425T202424
CREATED:20240116T134911Z
LAST-MODIFIED:20240116T134911Z
UID:7956-1705761000-1705770000@telugumalaysia.org
SUMMARY:TAM Aman Perdana Branch - Sankranthi Panduga
DESCRIPTION:
URL:https://telugumalaysia.org/event/tam-aman-perdana-branch-sankranthi-panduga/
LOCATION:TAM Aman Perdana Centre\, Shop Lot No. 80\, 1st Floor\, Jalan 1A/KU5\, Aman Perdana\, Klang
END:VEVENT
END:VCALENDAR