BEGIN:VCALENDAR
VERSION:2.0
PRODID:-//Telugu Association Of Malaysia - ECPv6.15.20//NONSGML v1.0//EN
CALSCALE:GREGORIAN
METHOD:PUBLISH
X-ORIGINAL-URL:https://telugumalaysia.org
X-WR-CALDESC:Events for Telugu Association Of Malaysia
REFRESH-INTERVAL;VALUE=DURATION:PT1H
X-Robots-Tag:noindex
X-PUBLISHED-TTL:PT1H
BEGIN:VTIMEZONE
TZID:UTC
BEGIN:STANDARD
TZOFFSETFROM:+0000
TZOFFSETTO:+0000
TZNAME:UTC
DTSTART:20230101T000000
END:STANDARD
END:VTIMEZONE
BEGIN:VEVENT
DTSTART;TZID=UTC:20240202T170000
DTEND;TZID=UTC:20240202T170000
DTSTAMP:20260425T172435
CREATED:20240131T030007Z
LAST-MODIFIED:20240131T030917Z
UID:7973-1706893200-1706893200@telugumalaysia.org
SUMMARY:TAM Teluk Intan Branch - Sankranthi Sandhadi
DESCRIPTION:
URL:https://telugumalaysia.org/event/tam-teluk-intan-branch-sankranthi-sandhadi/
LOCATION:Koperasi Telugu Hilir Perak Berhad\, Taman Impian\, Teluk Intan
END:VEVENT
END:VCALENDAR