BEGIN:VCALENDAR
VERSION:2.0
PRODID:-//Telugu Association Of Malaysia - ECPv6.15.20//NONSGML v1.0//EN
CALSCALE:GREGORIAN
METHOD:PUBLISH
X-WR-CALNAME:Telugu Association Of Malaysia
X-ORIGINAL-URL:https://telugumalaysia.org
X-WR-CALDESC:Events for Telugu Association Of Malaysia
REFRESH-INTERVAL;VALUE=DURATION:PT1H
X-Robots-Tag:noindex
X-PUBLISHED-TTL:PT1H
BEGIN:VTIMEZONE
TZID:UTC
BEGIN:STANDARD
TZOFFSETFROM:+0000
TZOFFSETTO:+0000
TZNAME:UTC
DTSTART:20230101T000000
END:STANDARD
END:VTIMEZONE
BEGIN:VEVENT
DTSTART;TZID=UTC:20240217T140000
DTEND;TZID=UTC:20240217T140000
DTSTAMP:20260425T171630
CREATED:20240116T142725Z
LAST-MODIFIED:20240131T030753Z
UID:7968-1708178400-1708178400@telugumalaysia.org
SUMMARY:68th TAM Anniversary Celebrations & Official Book Release of 'Malaysian Telugus - Untold Stories of Andhra Pioneers'
DESCRIPTION:  \nAndariki Namaskaram. It gives us immense pleasure to announce the official book release of *Malaysian Telugus – Untold Stories of Andhra Pioneers* in conjunction with *Telugu Association of Malaysia’s 68th Anniversary on the 17th of February 2024.* It is certainly a treat and treatise that must reach every Telugu household. Join us in celebrating this special occasion and purchasing the book by clicking the link at https://docs.google.com/forms/d/e/1FAIpQLSefsQ3-trnj-Kh8vA_x94EAGqR44tKjuKuBh-7YS3pIsGKjAg/viewform\n\nDhanyavaadalu \n\nSiva Soorianarayanan\nHonorary General Secretary\nTelugu Association of Malaysia
URL:https://telugumalaysia.org/event/68th-tam-anniversary-celebrations-book-launching-of-malaysian-telugus-untold-stories-of-andhra-pioneers/
LOCATION:Help University Subang Campus\, Kota Damansara (RRI Sungai Buloh)
END:VEVENT
END:VCALENDAR