BEGIN:VCALENDAR
VERSION:2.0
PRODID:-//Telugu Association Of Malaysia - ECPv6.15.20//NONSGML v1.0//EN
CALSCALE:GREGORIAN
METHOD:PUBLISH
X-WR-CALNAME:Telugu Association Of Malaysia
X-ORIGINAL-URL:https://telugumalaysia.org
X-WR-CALDESC:Events for Telugu Association Of Malaysia
REFRESH-INTERVAL;VALUE=DURATION:PT1H
X-Robots-Tag:noindex
X-PUBLISHED-TTL:PT1H
BEGIN:VTIMEZONE
TZID:UTC
BEGIN:STANDARD
TZOFFSETFROM:+0000
TZOFFSETTO:+0000
TZNAME:UTC
DTSTART:20230101T000000
END:STANDARD
END:VTIMEZONE
BEGIN:VEVENT
DTSTART;VALUE=DATE:20240501
DTEND;VALUE=DATE:20240602
DTSTAMP:20260425T102202
CREATED:20240502T033758Z
LAST-MODIFIED:20240502T033758Z
UID:11480-1714521600-1717286399@telugumalaysia.org
SUMMARY:Malaysia Telugu Sangha Vidhyardhulu (MTV.TAM) - Panchudham Penchudham
DESCRIPTION:
URL:https://telugumalaysia.org/event/malaysia-telugu-sangha-vidhyardhulu-mtv-tam-panchudham-penchudham/
END:VEVENT
BEGIN:VEVENT
DTSTART;TZID=UTC:20240512T083000
DTEND;TZID=UTC:20240512T123000
DTSTAMP:20260425T102202
CREATED:20240502T030818Z
LAST-MODIFIED:20240502T030818Z
UID:11473-1715502600-1715517000@telugumalaysia.org
SUMMARY:TAM Bagan Datoh (Mahila) - Mother's Day Celebration
DESCRIPTION:
URL:https://telugumalaysia.org/event/tam-bagan-datoh-mahila-mothers-day-celebration/
LOCATION:Sri Venkateswara Devasthanamu\, Sungai Sumun\, Perak
END:VEVENT
BEGIN:VEVENT
DTSTART;TZID=UTC:20240512T160000
DTEND;TZID=UTC:20240512T180000
DTSTAMP:20260425T102202
CREATED:20240502T030101Z
LAST-MODIFIED:20240502T030101Z
UID:11462-1715529600-1715536800@telugumalaysia.org
SUMMARY:Book Release - Amrutha Manjari Gnana Makarantham
DESCRIPTION:
URL:https://telugumalaysia.org/event/book-release-amrutha-manjari-gnana-makarantham/
LOCATION:Auditorium Tan Sri Dato K.R. Soma\, Wisma Tun Sambanthan (NLFCS)\, Kuala Lumpur
END:VEVENT
END:VCALENDAR