BEGIN:VCALENDAR
VERSION:2.0
PRODID:-//Telugu Association Of Malaysia - ECPv6.15.20//NONSGML v1.0//EN
CALSCALE:GREGORIAN
METHOD:PUBLISH
X-WR-CALNAME:Telugu Association Of Malaysia
X-ORIGINAL-URL:https://telugumalaysia.org
X-WR-CALDESC:Events for Telugu Association Of Malaysia
REFRESH-INTERVAL;VALUE=DURATION:PT1H
X-Robots-Tag:noindex
X-PUBLISHED-TTL:PT1H
BEGIN:VTIMEZONE
TZID:UTC
BEGIN:STANDARD
TZOFFSETFROM:+0000
TZOFFSETTO:+0000
TZNAME:UTC
DTSTART:20230101T000000
END:STANDARD
END:VTIMEZONE
BEGIN:VEVENT
DTSTART;VALUE=DATE:20240501
DTEND;VALUE=DATE:20240602
DTSTAMP:20260425T102132
CREATED:20240502T033758Z
LAST-MODIFIED:20240502T033758Z
UID:11480-1714521600-1717286399@telugumalaysia.org
SUMMARY:Malaysia Telugu Sangha Vidhyardhulu (MTV.TAM) - Panchudham Penchudham
DESCRIPTION:
URL:https://telugumalaysia.org/event/malaysia-telugu-sangha-vidhyardhulu-mtv-tam-panchudham-penchudham/
END:VEVENT
BEGIN:VEVENT
DTSTART;TZID=UTC:20240518T180000
DTEND;TZID=UTC:20240518T210000
DTSTAMP:20260425T102132
CREATED:20240405T022553Z
LAST-MODIFIED:20240408T044337Z
UID:10383-1716055200-1716066000@telugumalaysia.org
SUMMARY:TAM Melaka Branch - Ugadi Celebration
DESCRIPTION:
URL:https://telugumalaysia.org/event/tam-melaka-branch-ugadi-celebration-2/
LOCATION:Dewi Sri Maha Mariamman Temple (Kutharai Kovil)\, Cheng\, Melaka
END:VEVENT
BEGIN:VEVENT
DTSTART;TZID=UTC:20240518T183000
DTEND;TZID=UTC:20240518T230000
DTSTAMP:20260425T102132
CREATED:20240502T034320Z
LAST-MODIFIED:20240502T034320Z
UID:11483-1716057000-1716073200@telugumalaysia.org
SUMMARY:TAM Bagan Datoh Branch - Ugadi Vedukalu 2024 (Ugadi Mana Inti Pandaga)
DESCRIPTION:https://telugumalaysia.org/wp-content/uploads/2024/05/VID-20240429-WA0028.mp4
URL:https://telugumalaysia.org/event/tam-bagan-datoh-branch-ugadi-vedukalu-2024-ugadi-mana-inti-pandaga/
LOCATION:Dewan Dato’ Lope Hashim\, Bagan Datuk
END:VEVENT
END:VCALENDAR