BEGIN:VCALENDAR
VERSION:2.0
PRODID:-//Telugu Association Of Malaysia - ECPv6.15.20//NONSGML v1.0//EN
CALSCALE:GREGORIAN
METHOD:PUBLISH
X-WR-CALNAME:Telugu Association Of Malaysia
X-ORIGINAL-URL:https://telugumalaysia.org
X-WR-CALDESC:Events for Telugu Association Of Malaysia
REFRESH-INTERVAL;VALUE=DURATION:PT1H
X-Robots-Tag:noindex
X-PUBLISHED-TTL:PT1H
BEGIN:VTIMEZONE
TZID:UTC
BEGIN:STANDARD
TZOFFSETFROM:+0000
TZOFFSETTO:+0000
TZNAME:UTC
DTSTART:20240101T000000
END:STANDARD
END:VTIMEZONE
BEGIN:VEVENT
DTSTART;VALUE=DATE:20250103
DTEND;VALUE=DATE:20250106
DTSTAMP:20260424T165750
CREATED:20241109T041838Z
LAST-MODIFIED:20241109T042844Z
UID:13504-1735862400-1736121599@telugumalaysia.org
SUMMARY:World Telugu Federation's 12th Biennial Conference @ Hyderabad
DESCRIPTION:  \nRegistration Closing Date : 16th November 2024
URL:https://telugumalaysia.org/event/world-telugu-federations-12th-biennial-conference-hyderabad/
LOCATION:Hyderabad\, Telangana\, India
END:VEVENT
END:VCALENDAR