BEGIN:VCALENDAR
VERSION:2.0
PRODID:-//Telugu Association Of Malaysia - ECPv6.15.20//NONSGML v1.0//EN
CALSCALE:GREGORIAN
METHOD:PUBLISH
X-WR-CALNAME:Telugu Association Of Malaysia
X-ORIGINAL-URL:https://telugumalaysia.org
X-WR-CALDESC:Events for Telugu Association Of Malaysia
REFRESH-INTERVAL;VALUE=DURATION:PT1H
X-Robots-Tag:noindex
X-PUBLISHED-TTL:PT1H
BEGIN:VTIMEZONE
TZID:UTC
BEGIN:STANDARD
TZOFFSETFROM:+0000
TZOFFSETTO:+0000
TZNAME:UTC
DTSTART:20240101T000000
END:STANDARD
END:VTIMEZONE
BEGIN:VEVENT
DTSTART;TZID=UTC:20250405T100000
DTEND;TZID=UTC:20250405T130000
DTSTAMP:20260424T120228
CREATED:20250325T015344Z
LAST-MODIFIED:20250325T015344Z
UID:15580-1743847200-1743858000@telugumalaysia.org
SUMMARY:TAM Sitiawan Branch - Ugadi Celebration 2025
DESCRIPTION:
URL:https://telugumalaysia.org/event/tam-sitiawan-branch-ugadi-celebration-2025/
LOCATION:TAM Sitiawan Bhavanam\, No 19\, Taman Medan Sungai Wangi\, Sitiawan\, Perak
END:VEVENT
BEGIN:VEVENT
DTSTART;TZID=UTC:20250405T160000
DTEND;TZID=UTC:20250405T220000
DTSTAMP:20260424T120228
CREATED:20250325T014921Z
LAST-MODIFIED:20250325T014921Z
UID:15556-1743868800-1743890400@telugumalaysia.org
SUMMARY:TAM Puchong Branch - Ugadi Celebration 2025
DESCRIPTION:
URL:https://telugumalaysia.org/event/tam-puchong-branch-ugadi-celebration-2025/
LOCATION:Sri Srinivasa Perumal Devasthanam\, Pusat Bandar Puchong
END:VEVENT
BEGIN:VEVENT
DTSTART;TZID=UTC:20250405T180000
DTEND;TZID=UTC:20250405T210000
DTSTAMP:20260424T120228
CREATED:20250325T021431Z
LAST-MODIFIED:20250325T021431Z
UID:15596-1743876000-1743886800@telugumalaysia.org
SUMMARY:TAM Gombak Branch - Ugadi Celebration 2025
DESCRIPTION:
URL:https://telugumalaysia.org/event/tam-gombak-branch-ugadi-celebration-2025/
LOCATION:Sree Alamelumanga Venkatachalapathy Batu Caves Temple
END:VEVENT
END:VCALENDAR