BEGIN:VCALENDAR
VERSION:2.0
PRODID:-//Telugu Association Of Malaysia - ECPv6.15.20//NONSGML v1.0//EN
CALSCALE:GREGORIAN
METHOD:PUBLISH
X-ORIGINAL-URL:https://telugumalaysia.org
X-WR-CALDESC:Events for Telugu Association Of Malaysia
REFRESH-INTERVAL;VALUE=DURATION:PT1H
X-Robots-Tag:noindex
X-PUBLISHED-TTL:PT1H
BEGIN:VTIMEZONE
TZID:UTC
BEGIN:STANDARD
TZOFFSETFROM:+0000
TZOFFSETTO:+0000
TZNAME:UTC
DTSTART:20240101T000000
END:STANDARD
END:VTIMEZONE
BEGIN:VEVENT
DTSTART;TZID=UTC:20250419T080000
DTEND;TZID=UTC:20250419T130000
DTSTAMP:20260424T120252
CREATED:20250329T060337Z
LAST-MODIFIED:20250417T072309Z
UID:15648-1745049600-1745067600@telugumalaysia.org
SUMMARY:TAM Kelana Jaya Branch - Ugadi Celebration 2025
DESCRIPTION:
URL:https://telugumalaysia.org/event/tam-kelana-jaya-branch-ugadi-celebration-2025/
LOCATION:Sri Subramaniar Alayam\, Bandar Sunway\, Petaling Jaya
END:VEVENT
BEGIN:VEVENT
DTSTART;TZID=UTC:20250419T190000
DTEND;TZID=UTC:20250419T210000
DTSTAMP:20260424T120252
CREATED:20250325T020526Z
LAST-MODIFIED:20250325T020526Z
UID:15582-1745089200-1745096400@telugumalaysia.org
SUMMARY:TAM Seremban Branch - Ugadi Celebration 2025
DESCRIPTION:
URL:https://telugumalaysia.org/event/tam-seremban-branch-ugadi-celebration-2025/
LOCATION:Sri Maha Mariamman Temple\, Dusun Nyiur\, Seremban
END:VEVENT
BEGIN:VEVENT
DTSTART;TZID=UTC:20250419T190000
DTEND;TZID=UTC:20250419T230000
DTSTAMP:20260424T120252
CREATED:20250325T031053Z
LAST-MODIFIED:20250325T031053Z
UID:15634-1745089200-1745103600@telugumalaysia.org
SUMMARY:TAM Bagan Datoh Branch – Ugadi Vedukalu 2025
DESCRIPTION:
URL:https://telugumalaysia.org/event/tam-bagan-datoh-branch-ugadi-vedukalu-2025/
LOCATION:Dewan Dato’ Lope Hashim\, Bagan Datuk
END:VEVENT
BEGIN:VEVENT
DTSTART;TZID=UTC:20250419T193000
DTEND;TZID=UTC:20250419T213000
DTSTAMP:20260424T120252
CREATED:20250325T091649Z
LAST-MODIFIED:20250325T091649Z
UID:15636-1745091000-1745098200@telugumalaysia.org
SUMMARY:TAM Kajang Branch - Ugadi Celebration 2025
DESCRIPTION:
URL:https://telugumalaysia.org/event/tam-kajang-branch-ugadi-celebration-2025/
LOCATION:Devi Shree Karumariamman Temple\, Ladang Semenyih\, Semenyih
END:VEVENT
END:VCALENDAR