BEGIN:VCALENDAR
VERSION:2.0
PRODID:-//Telugu Association Of Malaysia - ECPv6.15.20//NONSGML v1.0//EN
CALSCALE:GREGORIAN
METHOD:PUBLISH
X-ORIGINAL-URL:https://telugumalaysia.org
X-WR-CALDESC:Events for Telugu Association Of Malaysia
REFRESH-INTERVAL;VALUE=DURATION:PT1H
X-Robots-Tag:noindex
X-PUBLISHED-TTL:PT1H
BEGIN:VTIMEZONE
TZID:UTC
BEGIN:STANDARD
TZOFFSETFROM:+0000
TZOFFSETTO:+0000
TZNAME:UTC
DTSTART:20240101T000000
END:STANDARD
END:VTIMEZONE
BEGIN:VEVENT
DTSTART;TZID=UTC:20250517T180000
DTEND;TZID=UTC:20250517T220000
DTSTAMP:20260424T092136
CREATED:20250326T014745Z
LAST-MODIFIED:20250326T014745Z
UID:15639-1747504800-1747519200@telugumalaysia.org
SUMMARY:TAM Melaka Branch - Ugadi Celebration 2025
DESCRIPTION:
URL:https://telugumalaysia.org/event/tam-melaka-branch-ugadi-celebration-2025/
LOCATION:Devi Sri Maha Mariamman Temple\, KM23\, Jalan Jasin\, Bemban\, Melaka
END:VEVENT
END:VCALENDAR