BEGIN:VCALENDAR
VERSION:2.0
PRODID:-//Telugu Association Of Malaysia - ECPv6.15.20//NONSGML v1.0//EN
CALSCALE:GREGORIAN
METHOD:PUBLISH
X-WR-CALNAME:Telugu Association Of Malaysia
X-ORIGINAL-URL:https://telugumalaysia.org
X-WR-CALDESC:Events for Telugu Association Of Malaysia
REFRESH-INTERVAL;VALUE=DURATION:PT1H
X-Robots-Tag:noindex
X-PUBLISHED-TTL:PT1H
BEGIN:VTIMEZONE
TZID:UTC
BEGIN:STANDARD
TZOFFSETFROM:+0000
TZOFFSETTO:+0000
TZNAME:UTC
DTSTART:20240101T000000
END:STANDARD
END:VTIMEZONE
BEGIN:VEVENT
DTSTART;VALUE=DATE:20251108
DTEND;VALUE=DATE:20251110
DTSTAMP:20260423T231644
CREATED:20251003T014646Z
LAST-MODIFIED:20251003T014646Z
UID:16410-1762560000-1762732799@telugumalaysia.org
SUMMARY:Telugu Women Empowerment & Leadership Conference (TWELC 2025)
DESCRIPTION:
URL:https://telugumalaysia.org/event/telugu-women-empowerment-leadership-conference-twelc-2025/
LOCATION:Crystal Crown Hotel\, Petaling Jaya
END:VEVENT
END:VCALENDAR