BEGIN:VCALENDAR
VERSION:2.0
PRODID:-//Telugu Association Of Malaysia - ECPv6.15.20//NONSGML v1.0//EN
CALSCALE:GREGORIAN
METHOD:PUBLISH
X-ORIGINAL-URL:https://telugumalaysia.org
X-WR-CALDESC:Events for Telugu Association Of Malaysia
REFRESH-INTERVAL;VALUE=DURATION:PT1H
X-Robots-Tag:noindex
X-PUBLISHED-TTL:PT1H
BEGIN:VTIMEZONE
TZID:UTC
BEGIN:STANDARD
TZOFFSETFROM:+0000
TZOFFSETTO:+0000
TZNAME:UTC
DTSTART:20250101T000000
END:STANDARD
END:VTIMEZONE
BEGIN:VEVENT
DTSTART;VALUE=DATE:20260319
DTEND;VALUE=DATE:20260320
DTSTAMP:20260423T174415
CREATED:20260318T041752Z
LAST-MODIFIED:20260318T041752Z
UID:17399-1773878400-1773964799@telugumalaysia.org
SUMMARY:TAM Bagan Datoh Branch & Sri Venkateswara Devasthanamu - Ugadi Celebration
DESCRIPTION:
URL:https://telugumalaysia.org/event/tam-bagan-datoh-branch-sri-venkateswara-devasthanamu-ugadi-celebration/
LOCATION:Sri Venkateswara Devasthanamu\, Sungai Sumun\, Perak
END:VEVENT
BEGIN:VEVENT
DTSTART;TZID=UTC:20260319T170000
DTEND;TZID=UTC:20260319T210000
DTSTAMP:20260423T174415
CREATED:20260318T044031Z
LAST-MODIFIED:20260318T044031Z
UID:17442-1773939600-1773954000@telugumalaysia.org
SUMMARY:TAM Rawang Branch - Ugadi Celebration
DESCRIPTION:
URL:https://telugumalaysia.org/event/tam-rawang-branch-ugadi-celebration-4/
LOCATION:Sri Veerakathy Vinayagar Temple\, Rawang
END:VEVENT
BEGIN:VEVENT
DTSTART;TZID=UTC:20260319T170000
DTEND;TZID=UTC:20260319T213000
DTSTAMP:20260423T174415
CREATED:20260318T033312Z
LAST-MODIFIED:20260318T033312Z
UID:17377-1773939600-1773955800@telugumalaysia.org
SUMMARY:TAM Sungai Petani Branch - Ugadi Celebration
DESCRIPTION:
URL:https://telugumalaysia.org/event/tam-sungai-petani-branch-ugadi-celebration-3/
LOCATION:Kuil Sri Maha Mariamman\, Taman Keladi\, Sungai Petani
END:VEVENT
BEGIN:VEVENT
DTSTART;TZID=UTC:20260319T173000
DTEND;TZID=UTC:20260319T210000
DTSTAMP:20260423T174415
CREATED:20260318T042608Z
LAST-MODIFIED:20260318T042608Z
UID:17404-1773941400-1773954000@telugumalaysia.org
SUMMARY:TAM Puchong Branch - Ugadi Celebration
DESCRIPTION:
URL:https://telugumalaysia.org/event/tam-puchong-branch-ugadi-celebration-2/
LOCATION:Sri Srinivasa Perumal Devasthanam\, Pusat Bandar Puchong
END:VEVENT
BEGIN:VEVENT
DTSTART;TZID=UTC:20260319T180000
DTEND;TZID=UTC:20260319T210000
DTSTAMP:20260423T174415
CREATED:20260318T033935Z
LAST-MODIFIED:20260318T033935Z
UID:17385-1773943200-1773954000@telugumalaysia.org
SUMMARY:TAM Penang Branch - Ugadi Celebration
DESCRIPTION:
URL:https://telugumalaysia.org/event/tam-penang-branch-ugadi-celebration-3/
LOCATION:Sri Ramar Temple\, Solok York\, Taman Dhoby Ghaut\, Georgetown
END:VEVENT
BEGIN:VEVENT
DTSTART;TZID=UTC:20260319T180000
DTEND;TZID=UTC:20260319T210000
DTSTAMP:20260423T174415
CREATED:20260318T043828Z
LAST-MODIFIED:20260318T043828Z
UID:17437-1773943200-1773954000@telugumalaysia.org
SUMMARY:TAM Sel/Wil Branch - Ugadi Celebration
DESCRIPTION:
URL:https://telugumalaysia.org/event/tam-sel-wil-branch-ugadi-celebration/
LOCATION:Sri Krishna Temple Brickfields\, Kuala Lumpur
END:VEVENT
BEGIN:VEVENT
DTSTART;TZID=UTC:20260319T183000
DTEND;TZID=UTC:20260319T203000
DTSTAMP:20260423T174415
CREATED:20260318T051750Z
LAST-MODIFIED:20260318T051750Z
UID:17469-1773945000-1773952200@telugumalaysia.org
SUMMARY:TAM Kuantan Branch - Ugadi Celebration
DESCRIPTION:
URL:https://telugumalaysia.org/event/tam-kuantan-branch-ugadi-celebration-3/
LOCATION:Sri Murugan Temple\, Kuantan
END:VEVENT
BEGIN:VEVENT
DTSTART;TZID=UTC:20260319T183000
DTEND;TZID=UTC:20260319T210000
DTSTAMP:20260423T174415
CREATED:20260318T042004Z
LAST-MODIFIED:20260318T042004Z
UID:17402-1773945000-1773954000@telugumalaysia.org
SUMMARY:TAM Ampang Branch - Ugadi Celebration
DESCRIPTION:
URL:https://telugumalaysia.org/event/tam-ampang-branch-ugadi-celebration-3/
LOCATION:Nageswary Amman Alayam\, Ampang
END:VEVENT
BEGIN:VEVENT
DTSTART;TZID=UTC:20260319T183000
DTEND;TZID=UTC:20260319T213000
DTSTAMP:20260423T174415
CREATED:20260318T033801Z
LAST-MODIFIED:20260318T033801Z
UID:17379-1773945000-1773955800@telugumalaysia.org
SUMMARY:TAM Kulim Branch - Ugadi Celebration
DESCRIPTION:
URL:https://telugumalaysia.org/event/tam-kulim-branch-ugadi-celebration-3/
LOCATION:Sri Maha Muthu Mariamman Devasthanam\, Sera\, Taman Hi-Tech Kulim
END:VEVENT
BEGIN:VEVENT
DTSTART;TZID=UTC:20260319T183000
DTEND;TZID=UTC:20260319T213000
DTSTAMP:20260423T174415
CREATED:20260318T042459Z
LAST-MODIFIED:20260318T042459Z
UID:17406-1773945000-1773955800@telugumalaysia.org
SUMMARY:TAM Klang Branch - Ugadi Celebration
DESCRIPTION:
URL:https://telugumalaysia.org/event/tam-klang-branch-ugadi-celebration-3/
LOCATION:Sri Sundaraja Perumal Temple\, Klang
END:VEVENT
BEGIN:VEVENT
DTSTART;TZID=UTC:20260319T183000
DTEND;TZID=UTC:20260319T213000
DTSTAMP:20260423T174415
CREATED:20260318T051243Z
LAST-MODIFIED:20260318T051254Z
UID:17465-1773945000-1773955800@telugumalaysia.org
SUMMARY:TAM Kluang Branch - Ugadi Celebration
DESCRIPTION:
URL:https://telugumalaysia.org/event/tam-kluang-branch-ugadi-celebration-3/
LOCATION:Sri Parasakthi Amman Kovil Paripalana Saba\, Jalan Mengkibol\, Kluang
END:VEVENT
BEGIN:VEVENT
DTSTART;TZID=UTC:20260319T190000
DTEND;TZID=UTC:20260319T220000
DTSTAMP:20260423T174415
CREATED:20260318T043532Z
LAST-MODIFIED:20260318T043558Z
UID:17411-1773946800-1773957600@telugumalaysia.org
SUMMARY:TAM Shah Alam Branch - Ugadi Celebration (in collaboration with Selangor State EXCO)
DESCRIPTION:
URL:https://telugumalaysia.org/event/tam-shah-alam-branch-ugadi-celebration-in-collaboration-with-selangor-state-exco/
LOCATION:Sri Maha Mariamman Temple\, Kota Kemuning\, Shah Alam
END:VEVENT
BEGIN:VEVENT
DTSTART;TZID=UTC:20260319T190000
DTEND;TZID=UTC:20260319T220000
DTSTAMP:20260423T174415
CREATED:20260318T051449Z
LAST-MODIFIED:20260318T051449Z
UID:17467-1773946800-1773957600@telugumalaysia.org
SUMMARY:TAM Johor Bahru Branch - Ugadi Celebration
DESCRIPTION:
URL:https://telugumalaysia.org/event/tam-johor-bahru-branch-ugadi-celebration-3/
LOCATION:Sri Maha Vishnu Alayam\, Taman Daya\, Johor Bahru
END:VEVENT
BEGIN:VEVENT
DTSTART;TZID=UTC:20260319T193000
DTEND;TZID=UTC:20260319T213000
DTSTAMP:20260423T174415
CREATED:20260318T045631Z
LAST-MODIFIED:20260318T045631Z
UID:17459-1773948600-1773955800@telugumalaysia.org
SUMMARY:TAM Seremban Branch - Ugadi Celebration
DESCRIPTION:
URL:https://telugumalaysia.org/event/tam-seremban-branch-ugadi-celebration-3/
LOCATION:Sri Maha Mariamman Temple\, Dusun Nyiur\, Seremban
END:VEVENT
END:VCALENDAR