BEGIN:VCALENDAR
VERSION:2.0
PRODID:-//Telugu Association Of Malaysia - ECPv6.15.20//NONSGML v1.0//EN
CALSCALE:GREGORIAN
METHOD:PUBLISH
X-WR-CALNAME:Telugu Association Of Malaysia
X-ORIGINAL-URL:https://telugumalaysia.org
X-WR-CALDESC:Events for Telugu Association Of Malaysia
REFRESH-INTERVAL;VALUE=DURATION:PT1H
X-Robots-Tag:noindex
X-PUBLISHED-TTL:PT1H
BEGIN:VTIMEZONE
TZID:UTC
BEGIN:STANDARD
TZOFFSETFROM:+0000
TZOFFSETTO:+0000
TZNAME:UTC
DTSTART:20240101T000000
END:STANDARD
END:VTIMEZONE
BEGIN:VEVENT
DTSTART;VALUE=DATE:20251108
DTEND;VALUE=DATE:20251110
DTSTAMP:20260423T231840
CREATED:20251003T014646Z
LAST-MODIFIED:20251003T014646Z
UID:16410-1762560000-1762732799@telugumalaysia.org
SUMMARY:Telugu Women Empowerment & Leadership Conference (TWELC 2025)
DESCRIPTION:
URL:https://telugumalaysia.org/event/telugu-women-empowerment-leadership-conference-twelc-2025/
LOCATION:Crystal Crown Hotel\, Petaling Jaya
END:VEVENT
BEGIN:VEVENT
DTSTART;TZID=UTC:20250927T080000
DTEND;TZID=UTC:20250927T140000
DTSTAMP:20260423T231841
CREATED:20250920T034628Z
LAST-MODIFIED:20250920T034628Z
UID:16227-1758960000-1758981600@telugumalaysia.org
SUMMARY:National Level Telugu Cultural Competitions
DESCRIPTION:
URL:https://telugumalaysia.org/event/national-level-telugu-cultural-competitions/
LOCATION:Sri Venkateswara Devasthanamu\, Sungai Sumun\, Perak
END:VEVENT
BEGIN:VEVENT
DTSTART;VALUE=DATE:20250922
DTEND;VALUE=DATE:20251003
DTSTAMP:20260423T231841
CREATED:20250903T044302Z
LAST-MODIFIED:20250903T044302Z
UID:16215-1758499200-1759449599@telugumalaysia.org
SUMMARY:Sri Venkateswara Brahmotsavaalu
DESCRIPTION:
URL:https://telugumalaysia.org/event/sri-venkateswara-brahmotsavaalu/
LOCATION:Sri Venkateswara Devasthanamu\, Sungai Sumun\, Perak
END:VEVENT
BEGIN:VEVENT
DTSTART;TZID=UTC:20250823T093000
DTEND;TZID=UTC:20250824T140000
DTSTAMP:20260423T231841
CREATED:20250716T090415Z
LAST-MODIFIED:20250716T090415Z
UID:16210-1755941400-1756044000@telugumalaysia.org
SUMMARY:TAM Youth Camp 2025
DESCRIPTION:
URL:https://telugumalaysia.org/event/tam-youth-camp-2025/
LOCATION:Bayu Beach Resort\, Port Dickson
END:VEVENT
BEGIN:VEVENT
DTSTART;TZID=UTC:20250517T180000
DTEND;TZID=UTC:20250517T220000
DTSTAMP:20260423T231841
CREATED:20250326T014745Z
LAST-MODIFIED:20250326T014745Z
UID:15639-1747504800-1747519200@telugumalaysia.org
SUMMARY:TAM Melaka Branch - Ugadi Celebration 2025
DESCRIPTION:
URL:https://telugumalaysia.org/event/tam-melaka-branch-ugadi-celebration-2025/
LOCATION:Devi Sri Maha Mariamman Temple\, KM23\, Jalan Jasin\, Bemban\, Melaka
END:VEVENT
BEGIN:VEVENT
DTSTART;TZID=UTC:20250510T153000
DTEND;TZID=UTC:20250510T203000
DTSTAMP:20260423T231841
CREATED:20250409T091940Z
LAST-MODIFIED:20250429T131130Z
UID:15656-1746891000-1746909000@telugumalaysia.org
SUMMARY:Ugadi Fest 2025 (National Level)
DESCRIPTION:
URL:https://telugumalaysia.org/event/ugadi-fest-2025-national-level/
LOCATION:Telugu Academy of Malaysia\, Rawang
END:VEVENT
BEGIN:VEVENT
DTSTART;TZID=UTC:20250501T173000
DTEND;TZID=UTC:20250501T220000
DTSTAMP:20260423T231841
CREATED:20250327T044156Z
LAST-MODIFIED:20250327T044156Z
UID:15645-1746120600-1746136800@telugumalaysia.org
SUMMARY:TAM Sitiawan Branch - Ugadi Vedukalu 2025
DESCRIPTION:
URL:https://telugumalaysia.org/event/tam-sitiawan-branch-ugadi-vedukalu-2025/
LOCATION:Punnimas Event Hall\, Ayer Tawar\, Perak
END:VEVENT
BEGIN:VEVENT
DTSTART;TZID=UTC:20250420T053000
DTEND;TZID=UTC:20250420T140000
DTSTAMP:20260423T231841
CREATED:20250417T065616Z
LAST-MODIFIED:20250417T070144Z
UID:15666-1745127000-1745157600@telugumalaysia.org
SUMMARY:TAM National Youth - Ugadi Food Drive 2025
DESCRIPTION:
URL:https://telugumalaysia.org/event/tam-national-youth-ugadi-food-drive-2025/
LOCATION:Brahmarpanam Soup Kitchen\, Setapak\, Kuala Lumpur
END:VEVENT
BEGIN:VEVENT
DTSTART;TZID=UTC:20250419T193000
DTEND;TZID=UTC:20250419T213000
DTSTAMP:20260423T231841
CREATED:20250325T091649Z
LAST-MODIFIED:20250325T091649Z
UID:15636-1745091000-1745098200@telugumalaysia.org
SUMMARY:TAM Kajang Branch - Ugadi Celebration 2025
DESCRIPTION:
URL:https://telugumalaysia.org/event/tam-kajang-branch-ugadi-celebration-2025/
LOCATION:Devi Shree Karumariamman Temple\, Ladang Semenyih\, Semenyih
END:VEVENT
BEGIN:VEVENT
DTSTART;TZID=UTC:20250419T190000
DTEND;TZID=UTC:20250419T230000
DTSTAMP:20260423T231841
CREATED:20250325T031053Z
LAST-MODIFIED:20250325T031053Z
UID:15634-1745089200-1745103600@telugumalaysia.org
SUMMARY:TAM Bagan Datoh Branch – Ugadi Vedukalu 2025
DESCRIPTION:
URL:https://telugumalaysia.org/event/tam-bagan-datoh-branch-ugadi-vedukalu-2025/
LOCATION:Dewan Dato’ Lope Hashim\, Bagan Datuk
END:VEVENT
BEGIN:VEVENT
DTSTART;TZID=UTC:20250419T190000
DTEND;TZID=UTC:20250419T210000
DTSTAMP:20260423T231841
CREATED:20250325T020526Z
LAST-MODIFIED:20250325T020526Z
UID:15582-1745089200-1745096400@telugumalaysia.org
SUMMARY:TAM Seremban Branch - Ugadi Celebration 2025
DESCRIPTION:
URL:https://telugumalaysia.org/event/tam-seremban-branch-ugadi-celebration-2025/
LOCATION:Sri Maha Mariamman Temple\, Dusun Nyiur\, Seremban
END:VEVENT
BEGIN:VEVENT
DTSTART;TZID=UTC:20250419T080000
DTEND;TZID=UTC:20250419T130000
DTSTAMP:20260423T231841
CREATED:20250329T060337Z
LAST-MODIFIED:20250417T072309Z
UID:15648-1745049600-1745067600@telugumalaysia.org
SUMMARY:TAM Kelana Jaya Branch - Ugadi Celebration 2025
DESCRIPTION:
URL:https://telugumalaysia.org/event/tam-kelana-jaya-branch-ugadi-celebration-2025/
LOCATION:Sri Subramaniar Alayam\, Bandar Sunway\, Petaling Jaya
END:VEVENT
BEGIN:VEVENT
DTSTART;TZID=UTC:20250413T170000
DTEND;TZID=UTC:20250413T200000
DTSTAMP:20260423T231841
CREATED:20250325T030248Z
LAST-MODIFIED:20250325T030248Z
UID:15632-1744563600-1744574400@telugumalaysia.org
SUMMARY:Kuchipudi Rangapravesam
DESCRIPTION:
URL:https://telugumalaysia.org/event/kuchipudi-rangapravesam/
LOCATION:The Temple of Fine Arts\, Brickfields\, Kuala Lumpur
END:VEVENT
BEGIN:VEVENT
DTSTART;TZID=UTC:20250412T190000
DTEND;TZID=UTC:20250412T210000
DTSTAMP:20260423T231841
CREATED:20250325T025422Z
LAST-MODIFIED:20250325T025422Z
UID:15618-1744484400-1744491600@telugumalaysia.org
SUMMARY:TAM Kinta (Ipoh) Branch - Ugadi Celebration 2025
DESCRIPTION:
URL:https://telugumalaysia.org/event/tam-kinta-ipoh-branch-ugadi-celebration-2025/
LOCATION:TAM Kinta Bhavanamu\, Wisma Ehsan\, Little India\, Ipoh
END:VEVENT
BEGIN:VEVENT
DTSTART;TZID=UTC:20250412T160000
DTEND;TZID=UTC:20250412T210000
DTSTAMP:20260423T231841
CREATED:20250325T030005Z
LAST-MODIFIED:20250325T030005Z
UID:15629-1744473600-1744491600@telugumalaysia.org
SUMMARY:TAM Shah Alam Branch - Sri Vaikuntta Sitaramula Kalyana Mahotsavam
DESCRIPTION:
URL:https://telugumalaysia.org/event/tam-shah-alam-branch-sri-vaikuntta-sitaramula-kalyana-mahotsavam/
LOCATION:Sri Vaikuntta Sitarama Devalayam\, Jalan 18/49\, Shah Alam
END:VEVENT
BEGIN:VEVENT
DTSTART;TZID=UTC:20250406T190000
DTEND;TZID=UTC:20250406T210000
DTSTAMP:20260423T231841
CREATED:20250404T004046Z
LAST-MODIFIED:20250404T004046Z
UID:15652-1743966000-1743973200@telugumalaysia.org
SUMMARY:TAM Negeri Sembilan Branch - Ugadi Celebration 2025
DESCRIPTION:
URL:https://telugumalaysia.org/event/tam-negeri-sembilan-branch-ugadi-celebration-2025/
LOCATION:Sri Ramar Temple\, Ladang Geddes\, Jempol\, Negeri Sembilan
END:VEVENT
BEGIN:VEVENT
DTSTART;TZID=UTC:20250406T183000
DTEND;TZID=UTC:20250406T213000
DTSTAMP:20260423T231841
CREATED:20250325T020919Z
LAST-MODIFIED:20250325T020919Z
UID:15587-1743964200-1743975000@telugumalaysia.org
SUMMARY:TAM Ampang Branch - Ugadi Celebration 2025
DESCRIPTION:
URL:https://telugumalaysia.org/event/tam-ampang-branch-ugadi-celebration-2025/
LOCATION:Sri Munisvarar Temple\, Bandar Baru Ampang
END:VEVENT
BEGIN:VEVENT
DTSTART;TZID=UTC:20250406T090000
DTEND;TZID=UTC:20250406T130000
DTSTAMP:20260423T231841
CREATED:20250325T015227Z
LAST-MODIFIED:20250325T015227Z
UID:15578-1743930000-1743944400@telugumalaysia.org
SUMMARY:TAM Simpang Empat Branch - Ugadi Celebration 2025
DESCRIPTION:
URL:https://telugumalaysia.org/event/tam-simpang-empat-branch-ugadi-celebration-2025/
LOCATION:Dewan Telugu Simpang Empat\, Hutan Melintang\, Perak
END:VEVENT
BEGIN:VEVENT
DTSTART;TZID=UTC:20250405T180000
DTEND;TZID=UTC:20250405T210000
DTSTAMP:20260423T231841
CREATED:20250325T021431Z
LAST-MODIFIED:20250325T021431Z
UID:15596-1743876000-1743886800@telugumalaysia.org
SUMMARY:TAM Gombak Branch - Ugadi Celebration 2025
DESCRIPTION:
URL:https://telugumalaysia.org/event/tam-gombak-branch-ugadi-celebration-2025/
LOCATION:Sree Alamelumanga Venkatachalapathy Batu Caves Temple
END:VEVENT
BEGIN:VEVENT
DTSTART;TZID=UTC:20250405T160000
DTEND;TZID=UTC:20250405T220000
DTSTAMP:20260423T231841
CREATED:20250325T014921Z
LAST-MODIFIED:20250325T014921Z
UID:15556-1743868800-1743890400@telugumalaysia.org
SUMMARY:TAM Puchong Branch - Ugadi Celebration 2025
DESCRIPTION:
URL:https://telugumalaysia.org/event/tam-puchong-branch-ugadi-celebration-2025/
LOCATION:Sri Srinivasa Perumal Devasthanam\, Pusat Bandar Puchong
END:VEVENT
BEGIN:VEVENT
DTSTART;TZID=UTC:20250405T100000
DTEND;TZID=UTC:20250405T130000
DTSTAMP:20260423T231841
CREATED:20250325T015344Z
LAST-MODIFIED:20250325T015344Z
UID:15580-1743847200-1743858000@telugumalaysia.org
SUMMARY:TAM Sitiawan Branch - Ugadi Celebration 2025
DESCRIPTION:
URL:https://telugumalaysia.org/event/tam-sitiawan-branch-ugadi-celebration-2025/
LOCATION:TAM Sitiawan Bhavanam\, No 19\, Taman Medan Sungai Wangi\, Sitiawan\, Perak
END:VEVENT
BEGIN:VEVENT
DTSTART;TZID=UTC:20250330T190000
DTEND;TZID=UTC:20250330T220000
DTSTAMP:20260423T231841
CREATED:20250325T022438Z
LAST-MODIFIED:20250325T025701Z
UID:15606-1743361200-1743372000@telugumalaysia.org
SUMMARY:TAM Johor Bahru Branch - Ugadi Celebration 2025
DESCRIPTION:
URL:https://telugumalaysia.org/event/tam-johor-bahru-branch-ugadi-celebration-2025/
LOCATION:Sri Maha Vishnu Alayam\, Taman Daya\, Johor Bahru
END:VEVENT
BEGIN:VEVENT
DTSTART;TZID=UTC:20250330T190000
DTEND;TZID=UTC:20250330T220000
DTSTAMP:20260423T231841
CREATED:20250325T021731Z
LAST-MODIFIED:20250325T021731Z
UID:15600-1743361200-1743372000@telugumalaysia.org
SUMMARY:TAM Sungai Petani Branch - Ugadi Celebration 2025
DESCRIPTION:
URL:https://telugumalaysia.org/event/tam-sungai-petani-branch-ugadi-celebration-2025/
LOCATION:Kuil Sri Maha Mariamman\, Taman Keladi\, Sungai Petani
END:VEVENT
BEGIN:VEVENT
DTSTART;TZID=UTC:20250330T190000
DTEND;TZID=UTC:20250330T220000
DTSTAMP:20260423T231841
CREATED:20250325T021325Z
LAST-MODIFIED:20250325T021325Z
UID:15594-1743361200-1743372000@telugumalaysia.org
SUMMARY:TAM Shah Alam Branch - Ugadi Celebration 2025
DESCRIPTION:
URL:https://telugumalaysia.org/event/tam-shah-alam-branch-ugadi-celebration-2025/
LOCATION:Sri Maha Mariamman Temple\, Kota Kemuning\, Shah Alam
END:VEVENT
BEGIN:VEVENT
DTSTART;TZID=UTC:20250330T190000
DTEND;TZID=UTC:20250330T210000
DTSTAMP:20260423T231841
CREATED:20250325T021026Z
LAST-MODIFIED:20250325T021026Z
UID:15590-1743361200-1743368400@telugumalaysia.org
SUMMARY:TAM Sungai Siput Branch - Ugadi Celebration 2025
DESCRIPTION:
URL:https://telugumalaysia.org/event/tam-sungai-siput-branch-ugadi-celebration-2025/
LOCATION:Sri Subramaniar Alayam\, Sungai Siput (U)
END:VEVENT
BEGIN:VEVENT
DTSTART;TZID=UTC:20250330T183000
DTEND;TZID=UTC:20250330T213000
DTSTAMP:20260423T231841
CREATED:20250325T023400Z
LAST-MODIFIED:20250325T023400Z
UID:15612-1743359400-1743370200@telugumalaysia.org
SUMMARY:TAM Penang Branch - Ugadi Celebration 2025
DESCRIPTION:
URL:https://telugumalaysia.org/event/tam-penang-branch-ugadi-celebration-2025/
LOCATION:Sri Ramar Temple\, Solok York\, Taman Dhoby Ghaut\, Georgetown
END:VEVENT
BEGIN:VEVENT
DTSTART;TZID=UTC:20250330T183000
DTEND;TZID=UTC:20250330T213000
DTSTAMP:20260423T231841
CREATED:20250325T020712Z
LAST-MODIFIED:20250325T020712Z
UID:15585-1743359400-1743370200@telugumalaysia.org
SUMMARY:TAM Kulim Branch - Ugadi Celebration 2025
DESCRIPTION:
URL:https://telugumalaysia.org/event/tam-kulim-branch-ugadi-celebration-2025/
LOCATION:Sri Maha Karumariamman Alayam\, Sera\, Kelang Lama\, Kulim\, Kedah
END:VEVENT
BEGIN:VEVENT
DTSTART;TZID=UTC:20250330T183000
DTEND;TZID=UTC:20250330T203000
DTSTAMP:20260423T231841
CREATED:20250325T023558Z
LAST-MODIFIED:20250325T025614Z
UID:15614-1743359400-1743366600@telugumalaysia.org
SUMMARY:TAM Kluang Branch - Ugadi Celebration 2025
DESCRIPTION:
URL:https://telugumalaysia.org/event/tam-kluang-branch-ugadi-celebration-2025/
LOCATION:Sri Parasakthi Amman Kovil Paripalana Saba\, Jalan Mengkibol\, Kluang
END:VEVENT
BEGIN:VEVENT
DTSTART;TZID=UTC:20250330T180000
DTEND;TZID=UTC:20250330T210000
DTSTAMP:20260423T231841
CREATED:20250325T021532Z
LAST-MODIFIED:20250325T021532Z
UID:15598-1743357600-1743368400@telugumalaysia.org
SUMMARY:TAM Selangor/Wilayah Branch - Ugadi Celebration 2025
DESCRIPTION:
URL:https://telugumalaysia.org/event/tam-selangor-wilayah-branch-ugadi-celebration-2025/
LOCATION:Sri Krishna Temple Brickfields\, Kuala Lumpur
END:VEVENT
BEGIN:VEVENT
DTSTART;TZID=UTC:20250330T160000
DTEND;TZID=UTC:20250330T203000
DTSTAMP:20260423T231841
CREATED:20250325T023114Z
LAST-MODIFIED:20250325T023114Z
UID:15608-1743350400-1743366600@telugumalaysia.org
SUMMARY:TAM Rawang Branch - Ugadi Celebration 2025
DESCRIPTION:
URL:https://telugumalaysia.org/event/tam-rawang-branch-ugadi-celebration-2025/
LOCATION:Sri Veerakathy Vinayagar Temple\, Rawang
END:VEVENT
END:VCALENDAR