BEGIN:VCALENDAR
VERSION:2.0
PRODID:-//Telugu Association Of Malaysia - ECPv6.15.20//NONSGML v1.0//EN
CALSCALE:GREGORIAN
METHOD:PUBLISH
X-WR-CALNAME:Telugu Association Of Malaysia
X-ORIGINAL-URL:https://telugumalaysia.org
X-WR-CALDESC:Events for Telugu Association Of Malaysia
REFRESH-INTERVAL;VALUE=DURATION:PT1H
X-Robots-Tag:noindex
X-PUBLISHED-TTL:PT1H
BEGIN:VTIMEZONE
TZID:UTC
BEGIN:STANDARD
TZOFFSETFROM:+0000
TZOFFSETTO:+0000
TZNAME:UTC
DTSTART:20220101T000000
END:STANDARD
END:VTIMEZONE
BEGIN:VEVENT
DTSTART;TZID=UTC:20230322T190000
DTEND;TZID=UTC:20230322T210000
DTSTAMP:20260425T155602
CREATED:20230306T035314Z
LAST-MODIFIED:20230306T035314Z
UID:7149-1679511600-1679518800@telugumalaysia.org
SUMMARY:TAM Rawang Branch - Ugadi Celebration
DESCRIPTION:
URL:https://telugumalaysia.org/event/tam-rawang-branch-ugadi-celebration-2/
LOCATION:Sri Veerakati Vinayaka Alayamu\, Rawang
END:VEVENT
BEGIN:VEVENT
DTSTART;TZID=UTC:20230322T190000
DTEND;TZID=UTC:20230322T210000
DTSTAMP:20260425T155602
CREATED:20230306T034119Z
LAST-MODIFIED:20230309T023840Z
UID:7134-1679511600-1679518800@telugumalaysia.org
SUMMARY:TAM Shah Alam Branch - Ugadi Celebration
DESCRIPTION:
URL:https://telugumalaysia.org/event/tam-shah-alam-branch-ugadi-celebration/
LOCATION:Sri Maha Mariamman Temple\, Kota Kemuning\, Shah Alam
END:VEVENT
BEGIN:VEVENT
DTSTART;TZID=UTC:20230322T190000
DTEND;TZID=UTC:20230322T210000
DTSTAMP:20260425T155602
CREATED:20230217T004413Z
LAST-MODIFIED:20230217T004413Z
UID:7040-1679511600-1679518800@telugumalaysia.org
SUMMARY:TAM Gombak Branch - Ugadi Celebration
DESCRIPTION:
URL:https://telugumalaysia.org/event/tam-gombak-branch-ugadi-celebration/
LOCATION:Sree Alamelumanga Venkatachalapathy Batu Caves Temple
END:VEVENT
BEGIN:VEVENT
DTSTART;TZID=UTC:20230322T183000
DTEND;TZID=UTC:20230322T213000
DTSTAMP:20260425T155602
CREATED:20230306T033154Z
LAST-MODIFIED:20230306T033154Z
UID:7123-1679509800-1679520600@telugumalaysia.org
SUMMARY:TAM Kluang Branch - Ugadi Celebration
DESCRIPTION:
URL:https://telugumalaysia.org/event/tam-kluang-branch-ugadi-celebration/
LOCATION:Sri Parasakthi Amman Kovil Paripalana Saba\, Jalan Mengkibol\, Kluang
END:VEVENT
BEGIN:VEVENT
DTSTART;TZID=UTC:20230322T183000
DTEND;TZID=UTC:20230322T213000
DTSTAMP:20260425T155602
CREATED:20230301T013742Z
LAST-MODIFIED:20230301T013742Z
UID:7113-1679509800-1679520600@telugumalaysia.org
SUMMARY:TAM Johor Bahru Branch – Ugadi Celebration
DESCRIPTION:
URL:https://telugumalaysia.org/event/tam-johor-bahru-branch-ugadi-celebration/
LOCATION:Sri Maha Vishnu Alayam\, Taman Daya\, Johor Bahru
END:VEVENT
BEGIN:VEVENT
DTSTART;TZID=UTC:20230322T183000
DTEND;TZID=UTC:20230322T213000
DTSTAMP:20260425T155602
CREATED:20230301T013142Z
LAST-MODIFIED:20230317T020023Z
UID:7105-1679509800-1679520600@telugumalaysia.org
SUMMARY:TAM Bagan Datoh Branch & TAM Simpang Empat Branch – Ugadi Celebration
DESCRIPTION:
URL:https://telugumalaysia.org/event/tam-bagan-datuk-branch-ugadi-celebration/
LOCATION:Sri Venkateswara Devasthanamu\, Sungai Sumun\, Perak
END:VEVENT
BEGIN:VEVENT
DTSTART;TZID=UTC:20230322T180000
DTEND;TZID=UTC:20230322T210000
DTSTAMP:20260425T155603
CREATED:20230306T033810Z
LAST-MODIFIED:20230307T084921Z
UID:7131-1679508000-1679518800@telugumalaysia.org
SUMMARY:TAM Klang Branch - Ugadi Celebration
DESCRIPTION:
URL:https://telugumalaysia.org/event/tam-klang-branch-ugadi-celebration/
LOCATION:Sri Sundaraja Perumal Temple\, Klang
END:VEVENT
BEGIN:VEVENT
DTSTART;TZID=UTC:20230322T170000
DTEND;TZID=UTC:20230322T210000
DTSTAMP:20260425T155603
CREATED:20230301T013531Z
LAST-MODIFIED:20230306T032443Z
UID:7108-1679504400-1679518800@telugumalaysia.org
SUMMARY:TAM Selangor/Wilayah Branch – Ugadi Celebration
DESCRIPTION:
URL:https://telugumalaysia.org/event/tam-selangor-wilayah-branch-ugadi-celebration/
LOCATION:Sri Krishna Temple Brickfields\, Kuala Lumpur
END:VEVENT
BEGIN:VEVENT
DTSTART;TZID=UTC:20230322T163000
DTEND;TZID=UTC:20230322T210000
DTSTAMP:20260425T155603
CREATED:20230306T035620Z
LAST-MODIFIED:20230308T043325Z
UID:7152-1679502600-1679518800@telugumalaysia.org
SUMMARY:TAM Puchong Branch - Ugadi Celebration
DESCRIPTION:
URL:https://telugumalaysia.org/event/tam-puchong-branch-ugadi-celebration/
LOCATION:Sri Srinivasa Perumal Devasthanam\, Pusat Bandar Puchong
END:VEVENT
BEGIN:VEVENT
DTSTART;TZID=UTC:20230322T073000
DTEND;TZID=UTC:20230322T093000
DTSTAMP:20260425T155603
CREATED:20230306T035142Z
LAST-MODIFIED:20230306T035142Z
UID:7144-1679470200-1679477400@telugumalaysia.org
SUMMARY:TAM Rawang Branch - Ugadi Celebration
DESCRIPTION:
URL:https://telugumalaysia.org/event/tam-rawang-branch-ugadi-celebration/
LOCATION:Sri Krishna Paramathma Alayamu\, Rawang
END:VEVENT
BEGIN:VEVENT
DTSTART;TZID=UTC:20230322T050000
DTEND;TZID=UTC:20230322T090000
DTSTAMP:20260425T155603
CREATED:20230317T015038Z
LAST-MODIFIED:20230317T015038Z
UID:7228-1679461200-1679475600@telugumalaysia.org
SUMMARY:Sri Venkateswara Devasthanamu - Special Prayers for Ugadi
DESCRIPTION:
URL:https://telugumalaysia.org/event/sri-venkateswara-devasthanamu-special-prayers-for-ugadi/
LOCATION:Sri Venkateswara Devasthanamu\, Sungai Sumun\, Perak
END:VEVENT
BEGIN:VEVENT
DTSTART;TZID=UTC:20230319T140000
DTEND;TZID=UTC:20230319T170000
DTSTAMP:20260425T155603
CREATED:20230307T085333Z
LAST-MODIFIED:20230307T085333Z
UID:7165-1679234400-1679245200@telugumalaysia.org
SUMMARY:TAM Ampang Branch (Mahila) - Makeup & Saree Draping Workshop
DESCRIPTION:
URL:https://telugumalaysia.org/event/tam-ampang-branch-mahila-makeup-saree-draping-workshop/
LOCATION:Pusat Tuisyen Suria\, Taman Kosas\, Ampang
END:VEVENT
BEGIN:VEVENT
DTSTART;TZID=UTC:20230310T080000
DTEND;TZID=UTC:20230316T170000
DTSTAMP:20260425T155603
CREATED:20230218T062313Z
LAST-MODIFIED:20230218T062313Z
UID:7071-1678435200-1678986000@telugumalaysia.org
SUMMARY:Mini Telugu Language & Moral Camp
DESCRIPTION:
URL:https://telugumalaysia.org/event/mini-telugu-language-moral-camp/
LOCATION:Sri Venkateswara Devasthanamu\, Sungai Sumun\, Perak
END:VEVENT
BEGIN:VEVENT
DTSTART;TZID=UTC:20230306T080000
DTEND;TZID=UTC:20230311T170000
DTSTAMP:20260425T155603
CREATED:20230301T012907Z
LAST-MODIFIED:20230301T012907Z
UID:7101-1678089600-1678554000@telugumalaysia.org
SUMMARY:Mini Telugu Language & Moral Camp
DESCRIPTION:
URL:https://telugumalaysia.org/event/mini-telugu-language-moral-camp-4/
LOCATION:TAM Klang Bhavanamu\, Bandar Bukit Tinggi\, Klang
END:VEVENT
BEGIN:VEVENT
DTSTART;TZID=UTC:20230301T080000
DTEND;TZID=UTC:20230306T170000
DTSTAMP:20260425T155603
CREATED:20230227T032921Z
LAST-MODIFIED:20230227T033004Z
UID:7094-1677657600-1678122000@telugumalaysia.org
SUMMARY:Mini Telugu Language & Moral Camp
DESCRIPTION:
URL:https://telugumalaysia.org/event/mini-telugu-language-moral-camp-3/
LOCATION:Kulai\, Johor Bahru
END:VEVENT
BEGIN:VEVENT
DTSTART;TZID=UTC:20230301T080000
DTEND;TZID=UTC:20230306T170000
DTSTAMP:20260425T155603
CREATED:20230227T032820Z
LAST-MODIFIED:20230227T033058Z
UID:7092-1677657600-1678122000@telugumalaysia.org
SUMMARY:Mini Telugu Language & Moral Camp
DESCRIPTION:
URL:https://telugumalaysia.org/event/mini-telugu-language-moral-camp-2/
LOCATION:Sri Venkateswara Devasthanamu\, Sungai Sumun\, Perak
END:VEVENT
BEGIN:VEVENT
DTSTART;TZID=UTC:20230228T090000
DTEND;TZID=UTC:20230303T170000
DTSTAMP:20260425T155603
CREATED:20230224T103025Z
LAST-MODIFIED:20230224T103025Z
UID:7073-1677574800-1677862800@telugumalaysia.org
SUMMARY:TAM Shah Alam - Intensive Cultural Camp
DESCRIPTION:
URL:https://telugumalaysia.org/event/tamsa-intensive-cultural-camp/
LOCATION:TAMSA Bhavanam\, Kemuning Utama\, Shah Alam
END:VEVENT
BEGIN:VEVENT
DTSTART;TZID=UTC:20230225T110000
DTEND;TZID=UTC:20230225T170000
DTSTAMP:20260425T155603
CREATED:20230217T004801Z
LAST-MODIFIED:20230217T004801Z
UID:7046-1677322800-1677344400@telugumalaysia.org
SUMMARY:TAM Melaka Branch - Blood Donation Drive
DESCRIPTION:
URL:https://telugumalaysia.org/event/tam-melaka-branch-blood-donation-drive/
LOCATION:NSK Melaka (Cheng)
END:VEVENT
BEGIN:VEVENT
DTSTART;TZID=UTC:20230225T090000
DTEND;TZID=UTC:20230226T180000
DTSTAMP:20260425T155603
CREATED:20230218T061919Z
LAST-MODIFIED:20230218T061919Z
UID:7068-1677315600-1677434400@telugumalaysia.org
SUMMARY:Telugu Teachers Training
DESCRIPTION:
URL:https://telugumalaysia.org/event/telugu-teachers-training/
LOCATION:Telugu Academy of Malaysia\, Rawang
END:VEVENT
BEGIN:VEVENT
DTSTART;TZID=UTC:20230218T090000
DTEND;TZID=UTC:20230218T130000
DTSTAMP:20260425T155603
CREATED:20230214T135359Z
LAST-MODIFIED:20230214T135359Z
UID:7034-1676710800-1676725200@telugumalaysia.org
SUMMARY:67th Anniversary of Telugu Association of Malaysia & International Bathukamma Awards
DESCRIPTION:
URL:https://telugumalaysia.org/event/67th-anniversary-of-telugu-association-of-malaysia-international-bathukamma-awards/
LOCATION:Telugu Bhavanamu\, Wisma Udarama\, Kuala Lumpur
END:VEVENT
BEGIN:VEVENT
DTSTART;TZID=UTC:20230129T130000
DTEND;TZID=UTC:20230129T150000
DTSTAMP:20260425T155603
CREATED:20230119T033607Z
LAST-MODIFIED:20230120T013030Z
UID:6783-1674997200-1675004400@telugumalaysia.org
SUMMARY:TAM Melaka Branch - Sankranthi Sambaralu
DESCRIPTION:
URL:https://telugumalaysia.org/event/tam-melaka-sankranthi-sambaralu/
LOCATION:TAM Melaka Bhavanam\, Kota Cemerlang
END:VEVENT
BEGIN:VEVENT
DTSTART;TZID=UTC:20230129T100000
DTEND;TZID=UTC:20230129T120000
DTSTAMP:20260425T155603
CREATED:20230119T033249Z
LAST-MODIFIED:20230120T013053Z
UID:6781-1674986400-1674993600@telugumalaysia.org
SUMMARY:Brahmasri Vaddiparthi Padmakar Gari 1248th Ashtavadhanam
DESCRIPTION:
URL:https://telugumalaysia.org/event/brahmasri-vaddiparthi-padmakar-gari-1248th-ashtavadhanam/
LOCATION:Telugu Academy of Malaysia\, Rawang
END:VEVENT
BEGIN:VEVENT
DTSTART;TZID=UTC:20230128T200000
DTEND;TZID=UTC:20230128T220000
DTSTAMP:20260425T155603
CREATED:20230119T032159Z
LAST-MODIFIED:20230120T013115Z
UID:6779-1674936000-1674943200@telugumalaysia.org
SUMMARY:Brahmasri Vaddiparthi Padmakar Gari Bhakti Pravachanam
DESCRIPTION:
URL:https://telugumalaysia.org/event/brahmasri-vaddiparthi-padmakar-gari-bhakti-pravachanam/
LOCATION:Sri Venkateswara Devasthanamu\, Sungai Sumun\, Perak
END:VEVENT
BEGIN:VEVENT
DTSTART;TZID=UTC:20230128T153000
DTEND;TZID=UTC:20230128T183000
DTSTAMP:20260425T155603
CREATED:20230119T024250Z
LAST-MODIFIED:20230120T013147Z
UID:6753-1674919800-1674930600@telugumalaysia.org
SUMMARY:TAM Klang Branch - Sankranthi Sambaralu
DESCRIPTION:
URL:https://telugumalaysia.org/event/tam-klang-branch-sankranthi-sambaralu/
LOCATION:Auditorium E Library\, Majlis Perbandaran Klang\, Jalan Monet\, Klang
END:VEVENT
BEGIN:VEVENT
DTSTART;TZID=UTC:20230121T160000
DTEND;TZID=UTC:20230121T180000
DTSTAMP:20260425T155603
CREATED:20230120T012152Z
LAST-MODIFIED:20230120T012825Z
UID:6792-1674316800-1674324000@telugumalaysia.org
SUMMARY:TAM Gombak Branch - Sankranthi Sambaralu
DESCRIPTION:
URL:https://telugumalaysia.org/event/tam-gombak-branch-sankranthi-sambaralu/
LOCATION:Sri Rama Alayamu\, Selayang
END:VEVENT
BEGIN:VEVENT
DTSTART;TZID=UTC:20230121T090000
DTEND;TZID=UTC:20230121T120000
DTSTAMP:20260425T155603
CREATED:20230119T024957Z
LAST-MODIFIED:20230120T013209Z
UID:6758-1674291600-1674302400@telugumalaysia.org
SUMMARY:TAM Sitiawan Branch - Sankranthi Sambaralu
DESCRIPTION:
URL:https://telugumalaysia.org/event/tam-sitiawan-branch-sankranthi-sambaralu/
LOCATION:TAM Sitiawan Bhavanam\, No 19\, Taman Medan Sungai Wangi\, Sitiawan\, Perak
END:VEVENT
END:VCALENDAR