BEGIN:VCALENDAR
VERSION:2.0
PRODID:-//Telugu Association Of Malaysia - ECPv6.15.20//NONSGML v1.0//EN
CALSCALE:GREGORIAN
METHOD:PUBLISH
X-WR-CALNAME:Telugu Association Of Malaysia
X-ORIGINAL-URL:https://telugumalaysia.org
X-WR-CALDESC:Events for Telugu Association Of Malaysia
REFRESH-INTERVAL;VALUE=DURATION:PT1H
X-Robots-Tag:noindex
X-PUBLISHED-TTL:PT1H
BEGIN:VTIMEZONE
TZID:UTC
BEGIN:STANDARD
TZOFFSETFROM:+0000
TZOFFSETTO:+0000
TZNAME:UTC
DTSTART:20250101T000000
END:STANDARD
END:VTIMEZONE
BEGIN:VEVENT
DTSTART;TZID=UTC:20260319T190000
DTEND;TZID=UTC:20260319T220000
DTSTAMP:20260423T230927
CREATED:20260318T051449Z
LAST-MODIFIED:20260318T051449Z
UID:17467-1773946800-1773957600@telugumalaysia.org
SUMMARY:TAM Johor Bahru Branch - Ugadi Celebration
DESCRIPTION:
URL:https://telugumalaysia.org/event/tam-johor-bahru-branch-ugadi-celebration-3/
LOCATION:Sri Maha Vishnu Alayam\, Taman Daya\, Johor Bahru
END:VEVENT
BEGIN:VEVENT
DTSTART;TZID=UTC:20260319T193000
DTEND;TZID=UTC:20260319T213000
DTSTAMP:20260423T230927
CREATED:20260318T045631Z
LAST-MODIFIED:20260318T045631Z
UID:17459-1773948600-1773955800@telugumalaysia.org
SUMMARY:TAM Seremban Branch - Ugadi Celebration
DESCRIPTION:
URL:https://telugumalaysia.org/event/tam-seremban-branch-ugadi-celebration-3/
LOCATION:Sri Maha Mariamman Temple\, Dusun Nyiur\, Seremban
END:VEVENT
BEGIN:VEVENT
DTSTART;TZID=UTC:20260321T070000
DTEND;TZID=UTC:20260321T130000
DTSTAMP:20260423T230927
CREATED:20260318T044339Z
LAST-MODIFIED:20260318T044339Z
UID:17445-1774076400-1774098000@telugumalaysia.org
SUMMARY:TAM Kelana Jaya Branch - Ugadi Celebration
DESCRIPTION:
URL:https://telugumalaysia.org/event/tam-kelana-jaya-branch-ugadi-celebration-3/
LOCATION:Sri Maha Mariamman Devasthanam\, USJ 25\, Seafield Subang Jaya
END:VEVENT
BEGIN:VEVENT
DTSTART;TZID=UTC:20260321T083000
DTEND;TZID=UTC:20260321T113000
DTSTAMP:20260423T230927
CREATED:20260318T034448Z
LAST-MODIFIED:20260318T034448Z
UID:17394-1774081800-1774092600@telugumalaysia.org
SUMMARY:TAM Simpang Empat Branch - Ugadi Celebration
DESCRIPTION:
URL:https://telugumalaysia.org/event/tam-simpang-empat-branch-ugadi-celebration/
LOCATION:Dewan Telugu Simpang Empat\, Hutan Melintang\, Perak
END:VEVENT
BEGIN:VEVENT
DTSTART;TZID=UTC:20260327T183000
DTEND;TZID=UTC:20260327T213000
DTSTAMP:20260423T230927
CREATED:20260318T045827Z
LAST-MODIFIED:20260318T045827Z
UID:17461-1774636200-1774647000@telugumalaysia.org
SUMMARY:TAM Negeri Sembilan Branch - Ugadi Celebration
DESCRIPTION:
URL:https://telugumalaysia.org/event/tam-negeri-sembilan-branch-ugadi-celebration-3/
LOCATION:Sri Ramar Temple\, Ladang Geddes\, Jempol\, Negeri Sembilan
END:VEVENT
BEGIN:VEVENT
DTSTART;TZID=UTC:20260329T120000
DTEND;TZID=UTC:20260329T150000
DTSTAMP:20260423T230927
CREATED:20260318T050900Z
LAST-MODIFIED:20260318T050900Z
UID:17463-1774785600-1774796400@telugumalaysia.org
SUMMARY:TAM Melaka Branch - Ugadi Celebration
DESCRIPTION:
URL:https://telugumalaysia.org/event/tam-melaka-branch-ugadi-celebration-3/
LOCATION:TAM Melaka Bhavanam\, Kota Cemerlang
END:VEVENT
BEGIN:VEVENT
DTSTART;TZID=UTC:20260403T183000
DTEND;TZID=UTC:20260403T203000
DTSTAMP:20260423T230927
CREATED:20260318T034830Z
LAST-MODIFIED:20260318T034830Z
UID:17396-1775241000-1775248200@telugumalaysia.org
SUMMARY:TAM Teluk Intan Branch - Ugadi Celebration
DESCRIPTION:
URL:https://telugumalaysia.org/event/tam-teluk-intan-branch-ugadi-celebration/
LOCATION:Koperasi Telugu Hilir Perak Berhad\, Taman Impian\, Teluk Intan
END:VEVENT
BEGIN:VEVENT
DTSTART;TZID=UTC:20260404T143000
DTEND;TZID=UTC:20260404T163000
DTSTAMP:20260423T230927
CREATED:20260318T045035Z
LAST-MODIFIED:20260318T045035Z
UID:17452-1775313000-1775320200@telugumalaysia.org
SUMMARY:TAM Aman Perdana Branch - Ugadi Celebration
DESCRIPTION:
URL:https://telugumalaysia.org/event/tam-aman-perdana-branch-ugadi-celebration/
LOCATION:TAM Aman Perdana Centre\, Shop Lot No. 80\, 1st Floor\, Jalan 1A/KU5\, Aman Perdana\, Klang
END:VEVENT
BEGIN:VEVENT
DTSTART;TZID=UTC:20260404T190000
DTEND;TZID=UTC:20260404T210000
DTSTAMP:20260423T230927
CREATED:20260318T034304Z
LAST-MODIFIED:20260318T034304Z
UID:17391-1775329200-1775336400@telugumalaysia.org
SUMMARY:TAM Kinta Branch - Ugadi Celebration
DESCRIPTION:
URL:https://telugumalaysia.org/event/tam-kinta-branch-ugadi-celebration/
LOCATION:Sri Maha Mariamman Temple\, Gopeng\, Perak
END:VEVENT
BEGIN:VEVENT
DTSTART;TZID=UTC:20260404T190000
DTEND;TZID=UTC:20260404T220000
DTSTAMP:20260423T230927
CREATED:20260318T045356Z
LAST-MODIFIED:20260318T045356Z
UID:17455-1775329200-1775340000@telugumalaysia.org
SUMMARY:TAM Gombak Branch - Ugadi Celebration
DESCRIPTION:
URL:https://telugumalaysia.org/event/tam-gombak-branch-ugadi-celebration-2/
LOCATION:Sree Alamelumanga Venkatachalapathy Batu Caves Temple
END:VEVENT
BEGIN:VEVENT
DTSTART;TZID=UTC:20260425T170000
DTEND;TZID=UTC:20260425T210000
DTSTAMP:20260423T230927
CREATED:20260318T044644Z
LAST-MODIFIED:20260318T044644Z
UID:17449-1777136400-1777150800@telugumalaysia.org
SUMMARY:TAM Kajang Branch - Ugadi Celebration
DESCRIPTION:
URL:https://telugumalaysia.org/event/tam-kajang-branch-ugadi-celebration-3/
LOCATION:Sri Renganathar Temple\, Kajang
END:VEVENT
BEGIN:VEVENT
DTSTART;TZID=UTC:20260426T100000
DTEND;TZID=UTC:20260426T140000
DTSTAMP:20260423T230927
CREATED:20260318T034113Z
LAST-MODIFIED:20260318T051928Z
UID:17387-1777197600-1777212000@telugumalaysia.org
SUMMARY:TAM Sitiawan Branch - Ugadi Celebration
DESCRIPTION:
URL:https://telugumalaysia.org/event/tam-sitiawan-branch-ugadi-celebration-2/
LOCATION:TAM Sitiawan Bhavanam\, No 19\, Taman Medan Sungai Wangi\, Sitiawan\, Perak
END:VEVENT
BEGIN:VEVENT
DTSTART;VALUE=DATE:20260829
DTEND;VALUE=DATE:20260901
DTSTAMP:20260423T230927
CREATED:20260117T055517Z
LAST-MODIFIED:20260117T055517Z
UID:17096-1787961600-1788220799@telugumalaysia.org
SUMMARY:TAM 70th Anniversary Celebrations
DESCRIPTION:
URL:https://telugumalaysia.org/event/tam-70th-anniversary-celebrations/
END:VEVENT
END:VCALENDAR