BEGIN:VCALENDAR
VERSION:2.0
PRODID:-//Telugu Association Of Malaysia - ECPv6.15.20//NONSGML v1.0//EN
CALSCALE:GREGORIAN
METHOD:PUBLISH
X-WR-CALNAME:Telugu Association Of Malaysia
X-ORIGINAL-URL:https://telugumalaysia.org
X-WR-CALDESC:Events for Telugu Association Of Malaysia
REFRESH-INTERVAL;VALUE=DURATION:PT1H
X-Robots-Tag:noindex
X-PUBLISHED-TTL:PT1H
BEGIN:VTIMEZONE
TZID:UTC
BEGIN:STANDARD
TZOFFSETFROM:+0000
TZOFFSETTO:+0000
TZNAME:UTC
DTSTART:20230101T000000
END:STANDARD
END:VTIMEZONE
BEGIN:VEVENT
DTSTART;TZID=UTC:20240609T150000
DTEND;TZID=UTC:20240609T170000
DTSTAMP:20260423T233703
CREATED:20240524T034642Z
LAST-MODIFIED:20240524T034642Z
UID:11792-1717945200-1717952400@telugumalaysia.org
SUMMARY:TAM Youth's Inter-Branch Bowling Tournament (Sitiawan)
DESCRIPTION:
URL:https://telugumalaysia.org/event/tam-youths-inter-branch-bowling-tournament-sitiawan/
LOCATION:Esplanade Bowl\, Kg Koh\, Sitiawan\, Perak
END:VEVENT
BEGIN:VEVENT
DTSTART;TZID=UTC:20240609T100000
DTEND;TZID=UTC:20240609T120000
DTSTAMP:20260423T233703
CREATED:20240524T034532Z
LAST-MODIFIED:20240524T034532Z
UID:11789-1717927200-1717934400@telugumalaysia.org
SUMMARY:TAM Youth's Inter-Branch Bowling Tournament (Penang)
DESCRIPTION:
URL:https://telugumalaysia.org/event/tam-youths-inter-branch-bowling-tournament-penang/
LOCATION:Ole Ole Superbowl\, Mydin Mall Bukit Mertajam\, Penang
END:VEVENT
BEGIN:VEVENT
DTSTART;TZID=UTC:20240603T100000
DTEND;TZID=UTC:20240603T123000
DTSTAMP:20260423T233703
CREATED:20240524T034336Z
LAST-MODIFIED:20240524T034336Z
UID:11786-1717408800-1717417800@telugumalaysia.org
SUMMARY:TAM Youth's Inter-Branch Bowling Tournament (Subang Jaya)
DESCRIPTION:
URL:https://telugumalaysia.org/event/tam-youths-inter-branch-bowling-tournament-subang-jaya/
LOCATION:Ampang Superbowl\, Summit USJ\, Subang Jaya
END:VEVENT
BEGIN:VEVENT
DTSTART;VALUE=DATE:20240603
DTEND;VALUE=DATE:20240608
DTSTAMP:20260423T233703
CREATED:20240524T032255Z
LAST-MODIFIED:20240524T032255Z
UID:11773-1717372800-1717804799@telugumalaysia.org
SUMMARY:TAM Selangor Wilayah Branch - Introduction to Organic Home Cooking for B40 Woman Entrepreneurs
DESCRIPTION:
URL:https://telugumalaysia.org/event/tam-selangor-wilayah-branch-introduction-to-organic-home-cooking-for-b40-woman-entrepreneurs/
LOCATION:Puchong Prima\, Puchong\, Selangor
END:VEVENT
BEGIN:VEVENT
DTSTART;TZID=UTC:20240602T180000
DTEND;TZID=UTC:20240602T210000
DTSTAMP:20260423T233703
CREATED:20240524T032044Z
LAST-MODIFIED:20240524T032044Z
UID:11770-1717351200-1717362000@telugumalaysia.org
SUMMARY:TAM Selangor Wilayah Branch - Mother's Day Celebration & Fund Raising for Telugu Class
DESCRIPTION:
URL:https://telugumalaysia.org/event/tam-selangor-wilayah-branch-mothers-day-celebration-fund-raising-for-telugu-class/
LOCATION:MAB Complex\, Brickfields\, Kuala Lumpur
END:VEVENT
BEGIN:VEVENT
DTSTART;TZID=UTC:20240601T150000
DTEND;TZID=UTC:20240601T170000
DTSTAMP:20260423T233703
CREATED:20240524T034112Z
LAST-MODIFIED:20240524T034112Z
UID:11783-1717254000-1717261200@telugumalaysia.org
SUMMARY:TAM Youth's Inter-Branch Bowling Tournament (Johor Bahru)
DESCRIPTION:
URL:https://telugumalaysia.org/event/tam-youths-inter-branch-bowling-tournament-johor-bahru/
LOCATION:Universal Bowling\, Mydin Mall\, Mutiara Rini\, Johor Bahru
END:VEVENT
BEGIN:VEVENT
DTSTART;TZID=UTC:20240601T100000
DTEND;TZID=UTC:20240601T120000
DTSTAMP:20260423T233703
CREATED:20240524T032535Z
LAST-MODIFIED:20240524T032535Z
UID:11776-1717236000-1717243200@telugumalaysia.org
SUMMARY:TAM Kulim Branch - Bowling
DESCRIPTION:
URL:https://telugumalaysia.org/event/tam-kulim-branch-bowling/
LOCATION:Ole Ole Superbowl\, Kulim
END:VEVENT
BEGIN:VEVENT
DTSTART;TZID=UTC:20240525T160000
DTEND;TZID=UTC:20240525T183000
DTSTAMP:20260423T233703
CREATED:20240524T030850Z
LAST-MODIFIED:20240524T030850Z
UID:11767-1716652800-1716661800@telugumalaysia.org
SUMMARY:High Commission of India Kuala Lumpur - Confluence : Samagam Language Series 2 (Preserving & Propagating Telugu Language in Malaysia)
DESCRIPTION: 
URL:https://telugumalaysia.org/event/high-commission-of-india-kuala-lumpur-confluence-samagam-language-series-2-preserving-propagating-telugu-language-in-malaysia/
LOCATION:Netaji Subhas Chandra Bose Indian Cultural Centre\, Menara Sentral Vista\, Brickfields\, KL
END:VEVENT
BEGIN:VEVENT
DTSTART;TZID=UTC:20240525T130000
DTEND;TZID=UTC:20240525T180000
DTSTAMP:20260423T233703
CREATED:20240524T030229Z
LAST-MODIFIED:20240524T035827Z
UID:11753-1716642000-1716660000@telugumalaysia.org
SUMMARY:TAM Rawang Branch (Mahila) - Par-Tea with Mahilalu
DESCRIPTION:
URL:https://telugumalaysia.org/event/tam-rawang-mahila-par-tea-with-mahilalu/
LOCATION:Telugu Academy of Malaysia\, Rawang
END:VEVENT
BEGIN:VEVENT
DTSTART;TZID=UTC:20240519T170000
DTEND;TZID=UTC:20240519T210000
DTSTAMP:20260423T233703
CREATED:20240502T032102Z
LAST-MODIFIED:20240502T033350Z
UID:11476-1716138000-1716152400@telugumalaysia.org
SUMMARY:Krishnamrutham - Kuchipudi Dance Recital with Live Music
DESCRIPTION:Tickets are priced at RM30 per person. Kindly contact Sri Siva Soorianarayanan at 016-6161444 to purchase your tickets.
URL:https://telugumalaysia.org/event/krishnamrutham-kuchipudi-dance-recital-with-live-music/
LOCATION:The Temple of Fine Arts\, Brickfields\, Kuala Lumpur
END:VEVENT
BEGIN:VEVENT
DTSTART;TZID=UTC:20240518T183000
DTEND;TZID=UTC:20240518T230000
DTSTAMP:20260423T233703
CREATED:20240502T034320Z
LAST-MODIFIED:20240502T034320Z
UID:11483-1716057000-1716073200@telugumalaysia.org
SUMMARY:TAM Bagan Datoh Branch - Ugadi Vedukalu 2024 (Ugadi Mana Inti Pandaga)
DESCRIPTION:https://telugumalaysia.org/wp-content/uploads/2024/05/VID-20240429-WA0028.mp4
URL:https://telugumalaysia.org/event/tam-bagan-datoh-branch-ugadi-vedukalu-2024-ugadi-mana-inti-pandaga/
LOCATION:Dewan Dato’ Lope Hashim\, Bagan Datuk
END:VEVENT
BEGIN:VEVENT
DTSTART;TZID=UTC:20240518T180000
DTEND;TZID=UTC:20240518T210000
DTSTAMP:20260423T233703
CREATED:20240405T022553Z
LAST-MODIFIED:20240408T044337Z
UID:10383-1716055200-1716066000@telugumalaysia.org
SUMMARY:TAM Melaka Branch - Ugadi Celebration
DESCRIPTION:
URL:https://telugumalaysia.org/event/tam-melaka-branch-ugadi-celebration-2/
LOCATION:Dewi Sri Maha Mariamman Temple (Kutharai Kovil)\, Cheng\, Melaka
END:VEVENT
BEGIN:VEVENT
DTSTART;TZID=UTC:20240512T160000
DTEND;TZID=UTC:20240512T180000
DTSTAMP:20260423T233703
CREATED:20240502T030101Z
LAST-MODIFIED:20240502T030101Z
UID:11462-1715529600-1715536800@telugumalaysia.org
SUMMARY:Book Release - Amrutha Manjari Gnana Makarantham
DESCRIPTION:
URL:https://telugumalaysia.org/event/book-release-amrutha-manjari-gnana-makarantham/
LOCATION:Auditorium Tan Sri Dato K.R. Soma\, Wisma Tun Sambanthan (NLFCS)\, Kuala Lumpur
END:VEVENT
BEGIN:VEVENT
DTSTART;TZID=UTC:20240512T083000
DTEND;TZID=UTC:20240512T123000
DTSTAMP:20260423T233703
CREATED:20240502T030818Z
LAST-MODIFIED:20240502T030818Z
UID:11473-1715502600-1715517000@telugumalaysia.org
SUMMARY:TAM Bagan Datoh (Mahila) - Mother's Day Celebration
DESCRIPTION:
URL:https://telugumalaysia.org/event/tam-bagan-datoh-mahila-mothers-day-celebration/
LOCATION:Sri Venkateswara Devasthanamu\, Sungai Sumun\, Perak
END:VEVENT
BEGIN:VEVENT
DTSTART;TZID=UTC:20240505T093000
DTEND;TZID=UTC:20240505T113000
DTSTAMP:20260423T233703
CREATED:20240502T030316Z
LAST-MODIFIED:20240502T030316Z
UID:11470-1714901400-1714908600@telugumalaysia.org
SUMMARY:Visit by Brahmasri Dr. L.V. Gangadhara Sastry
DESCRIPTION:
URL:https://telugumalaysia.org/event/visit-by-brahmasri-dr-l-v-gangadhara-sastry/
LOCATION:Telugu Academy of Malaysia\, Rawang
END:VEVENT
BEGIN:VEVENT
DTSTART;TZID=UTC:20240504T183000
DTEND;TZID=UTC:20240504T203000
DTSTAMP:20260423T233703
CREATED:20240502T025725Z
LAST-MODIFIED:20240502T025725Z
UID:11459-1714847400-1714854600@telugumalaysia.org
SUMMARY:TAM Taiping Branch - Ugadi Celebration
DESCRIPTION:
URL:https://telugumalaysia.org/event/tam-taiping-branch-ugadi-celebration-2/
LOCATION:Sri Krishna Alayamu\, Taiping
END:VEVENT
BEGIN:VEVENT
DTSTART;TZID=UTC:20240504T180000
DTEND;TZID=UTC:20240504T210000
DTSTAMP:20260423T233703
CREATED:20240322T011804Z
LAST-MODIFIED:20240322T011804Z
UID:9810-1714845600-1714856400@telugumalaysia.org
SUMMARY:TAM Aman Perdana - Ugadi Celebration
DESCRIPTION:
URL:https://telugumalaysia.org/event/tam-aman-perdana-ugadi-celebration/
LOCATION:Dewan Masyarakat Cempaka Sari\, Klang
END:VEVENT
BEGIN:VEVENT
DTSTART;VALUE=DATE:20240501
DTEND;VALUE=DATE:20240602
DTSTAMP:20260423T233703
CREATED:20240502T033758Z
LAST-MODIFIED:20240502T033758Z
UID:11480-1714521600-1717286399@telugumalaysia.org
SUMMARY:Malaysia Telugu Sangha Vidhyardhulu (MTV.TAM) - Panchudham Penchudham
DESCRIPTION:
URL:https://telugumalaysia.org/event/malaysia-telugu-sangha-vidhyardhulu-mtv-tam-panchudham-penchudham/
END:VEVENT
BEGIN:VEVENT
DTSTART;TZID=UTC:20240427T193000
DTEND;TZID=UTC:20240427T213000
DTSTAMP:20260423T233703
CREATED:20240409T035742Z
LAST-MODIFIED:20240409T035742Z
UID:10625-1714246200-1714253400@telugumalaysia.org
SUMMARY:TAM Seremban Branch - Ugadi Celebration
DESCRIPTION:
URL:https://telugumalaysia.org/event/tam-seremban-branch-ugadi-celebration-2/
LOCATION:Sri Maha Mariamman Temple\, Dusun Nyiur\, Seremban
END:VEVENT
BEGIN:VEVENT
DTSTART;TZID=UTC:20240427T190000
DTEND;TZID=UTC:20240427T220000
DTSTAMP:20260423T233703
CREATED:20240405T023721Z
LAST-MODIFIED:20240408T045458Z
UID:10393-1714244400-1714255200@telugumalaysia.org
SUMMARY:TAM Ampang Branch - Ugadi Celebration
DESCRIPTION:
URL:https://telugumalaysia.org/event/tam-ampang-branch-ugadi-celebration-2/
LOCATION:Sri Maha Mariamman Temple\, Tasik Permai\, Ampang
END:VEVENT
BEGIN:VEVENT
DTSTART;TZID=UTC:20240427T180000
DTEND;TZID=UTC:20240427T220000
DTSTAMP:20260423T233703
CREATED:20240405T022713Z
LAST-MODIFIED:20240423T011825Z
UID:10385-1714240800-1714255200@telugumalaysia.org
SUMMARY:TAM Kajang Branch - Ugadi Celebration
DESCRIPTION:
URL:https://telugumalaysia.org/event/tam-kajang-branch-ugadi-celebration-2/
LOCATION:Sri Subramaniya Swami Temple\, Jalan Reko\, Kajang
END:VEVENT
BEGIN:VEVENT
DTSTART;TZID=UTC:20240427T080000
DTEND;TZID=UTC:20240427T130000
DTSTAMP:20260423T233703
CREATED:20240405T022344Z
LAST-MODIFIED:20240405T022344Z
UID:10381-1714204800-1714222800@telugumalaysia.org
SUMMARY:TAM Kelana Jaya Branch - Ugadi Celebration
DESCRIPTION:
URL:https://telugumalaysia.org/event/tam-kelana-jaya-branch-ugadi-celebration-2/
LOCATION:Sri Subramaniar Alayam\, Bandar Sunway\, Petaling Jaya
END:VEVENT
BEGIN:VEVENT
DTSTART;TZID=UTC:20240421T183000
DTEND;TZID=UTC:20240421T213000
DTSTAMP:20260423T233703
CREATED:20240409T035943Z
LAST-MODIFIED:20240409T035943Z
UID:10631-1713724200-1713735000@telugumalaysia.org
SUMMARY:TAM Kinta (Ipoh) Branch - Ugadi Celebration
DESCRIPTION:
URL:https://telugumalaysia.org/event/tam-kinta-ipoh-branch-ugadi-celebration-2/
LOCATION:Sri Muniswarar Aman Kovil\, Jalan Hospital\, Ipoh
END:VEVENT
BEGIN:VEVENT
DTSTART;TZID=UTC:20240420T160000
DTEND;TZID=UTC:20240420T220000
DTSTAMP:20260423T233703
CREATED:20240404T081446Z
LAST-MODIFIED:20240404T081446Z
UID:10199-1713628800-1713650400@telugumalaysia.org
SUMMARY:TAM Shah Alam Branch - Sri Vaikuntta Sitaramula Kalyana Mahotsavamu
DESCRIPTION:
URL:https://telugumalaysia.org/event/tam-shah-alam-branch-sri-vaikuntta-sitaramula-kalyana-mahotsavamu/
LOCATION:Sri Srinivasa Perumal Devasthanam\, Pusat Bandar Puchong
END:VEVENT
BEGIN:VEVENT
DTSTART;TZID=UTC:20240419T180000
DTEND;TZID=UTC:20240419T210000
DTSTAMP:20260423T233703
CREATED:20240405T023951Z
LAST-MODIFIED:20240405T023951Z
UID:10397-1713549600-1713560400@telugumalaysia.org
SUMMARY:TAM Kuantan Branch - Ugadi Celebration
DESCRIPTION:
URL:https://telugumalaysia.org/event/tam-kuantan-branch-ugadi-celebration-2/
LOCATION:Sri Maha Mariamman Temple\, Kuantan
END:VEVENT
BEGIN:VEVENT
DTSTART;TZID=UTC:20240417T190000
DTEND;TZID=UTC:20240417T210000
DTSTAMP:20260423T233703
CREATED:20240405T023844Z
LAST-MODIFIED:20240405T023844Z
UID:10395-1713380400-1713387600@telugumalaysia.org
SUMMARY:TAM Negeri Sembilan Branch - Ugadi Celebration
DESCRIPTION:
URL:https://telugumalaysia.org/event/tam-negeri-sembilan-branch-ugadi-celebration-2/
LOCATION:Sri Ramar Temple\, Ladang Geddes\, Jempol\, Negeri Sembilan
END:VEVENT
BEGIN:VEVENT
DTSTART;TZID=UTC:20240417T180000
DTEND;TZID=UTC:20240417T210000
DTSTAMP:20260423T233703
CREATED:20240404T080118Z
LAST-MODIFIED:20240404T080118Z
UID:10190-1713376800-1713387600@telugumalaysia.org
SUMMARY:TAM Teluk Intan Branch - Ugadi & Sri Rama Navami Celebration
DESCRIPTION:
URL:https://telugumalaysia.org/event/tam-teluk-intan-branch-ugadi-sri-rama-navami-celebration/
LOCATION:Koperasi Telugu Hilir Perak Berhad\, Taman Impian\, Teluk Intan
END:VEVENT
BEGIN:VEVENT
DTSTART;TZID=UTC:20240413T190000
DTEND;TZID=UTC:20240413T210000
DTSTAMP:20260423T233703
CREATED:20240408T045158Z
LAST-MODIFIED:20240408T045158Z
UID:10501-1713034800-1713042000@telugumalaysia.org
SUMMARY:TAM Bentong Branch - Ugadi Celebration
DESCRIPTION:
URL:https://telugumalaysia.org/event/tam-bentong-branch-ugadi-celebration-2/
LOCATION:Sri Maha Mariamman Temple\, Jalan Chamang\, Bentong\, Pahang
END:VEVENT
BEGIN:VEVENT
DTSTART;TZID=UTC:20240409T193000
DTEND;TZID=UTC:20240409T213000
DTSTAMP:20260423T233703
CREATED:20240405T023620Z
LAST-MODIFIED:20240405T023620Z
UID:10391-1712691000-1712698200@telugumalaysia.org
SUMMARY:TAM Sungai Siput Branch - Ugadi Celebration
DESCRIPTION:
URL:https://telugumalaysia.org/event/tam-sungai-siput-branch-ugadi-celebration/
LOCATION:Sri Subramaniar Alayam\, Sungai Siput (U)
END:VEVENT
BEGIN:VEVENT
DTSTART;TZID=UTC:20240409T193000
DTEND;TZID=UTC:20240409T213000
DTSTAMP:20260423T233703
CREATED:20240403T072826Z
LAST-MODIFIED:20240403T072826Z
UID:10185-1712691000-1712698200@telugumalaysia.org
SUMMARY:TAM Sitiawan Branch - Ugadi Celebration
DESCRIPTION:
URL:https://telugumalaysia.org/event/tam-sitiawan-branch-ugadi-celebration/
LOCATION:Sri Seetha Ramar Temple\, Taman Samudera\, Manjung\, Perak
END:VEVENT
END:VCALENDAR