BEGIN:VCALENDAR
VERSION:2.0
PRODID:-//Telugu Association Of Malaysia - ECPv6.15.20//NONSGML v1.0//EN
CALSCALE:GREGORIAN
METHOD:PUBLISH
X-ORIGINAL-URL:https://telugumalaysia.org
X-WR-CALDESC:Events for Telugu Association Of Malaysia
REFRESH-INTERVAL;VALUE=DURATION:PT1H
X-Robots-Tag:noindex
X-PUBLISHED-TTL:PT1H
BEGIN:VTIMEZONE
TZID:UTC
BEGIN:STANDARD
TZOFFSETFROM:+0000
TZOFFSETTO:+0000
TZNAME:UTC
DTSTART:20240101T000000
END:STANDARD
END:VTIMEZONE
BEGIN:VEVENT
DTSTART;TZID=UTC:20250823T093000
DTEND;TZID=UTC:20250824T140000
DTSTAMP:20260424T020704
CREATED:20250716T090415Z
LAST-MODIFIED:20250716T090415Z
UID:16210-1755941400-1756044000@telugumalaysia.org
SUMMARY:TAM Youth Camp 2025
DESCRIPTION:
URL:https://telugumalaysia.org/event/tam-youth-camp-2025/
LOCATION:Bayu Beach Resort\, Port Dickson
END:VEVENT
END:VCALENDAR